BEGIN:VCALENDAR
VERSION:2.0
PRODID:-//Mindbodism - ECPv6.15.14//NONSGML v1.0//EN
CALSCALE:GREGORIAN
METHOD:PUBLISH
X-ORIGINAL-URL:https://mindbodism.com
X-WR-CALDESC:Events for Mindbodism
REFRESH-INTERVAL;VALUE=DURATION:PT1H
X-Robots-Tag:noindex
X-PUBLISHED-TTL:PT1H
BEGIN:VTIMEZONE
TZID:Europe/Paris
BEGIN:DAYLIGHT
TZOFFSETFROM:+0100
TZOFFSETTO:+0200
TZNAME:CEST
DTSTART:20250330T010000
END:DAYLIGHT
BEGIN:STANDARD
TZOFFSETFROM:+0200
TZOFFSETTO:+0100
TZNAME:CET
DTSTART:20251026T010000
END:STANDARD
BEGIN:DAYLIGHT
TZOFFSETFROM:+0100
TZOFFSETTO:+0200
TZNAME:CEST
DTSTART:20260329T010000
END:DAYLIGHT
BEGIN:STANDARD
TZOFFSETFROM:+0200
TZOFFSETTO:+0100
TZNAME:CET
DTSTART:20261025T010000
END:STANDARD
BEGIN:DAYLIGHT
TZOFFSETFROM:+0100
TZOFFSETTO:+0200
TZNAME:CEST
DTSTART:20270328T010000
END:DAYLIGHT
BEGIN:STANDARD
TZOFFSETFROM:+0200
TZOFFSETTO:+0100
TZNAME:CET
DTSTART:20271031T010000
END:STANDARD
END:VTIMEZONE
BEGIN:VEVENT
DTSTART;TZID=Europe/Paris:20260604T063000
DTEND;TZID=Europe/Paris:20260608T093000
DTSTAMP:20260420T071635
CREATED:20260416T143226Z
LAST-MODIFIED:20260416T152438Z
UID:10000704-1780554600-1780911000@mindbodism.com
SUMMARY:21-Day Morning Meditation (Wherever Your Day Begins)
DESCRIPTION:21-Day Morning Meditation (Wherever Your Day Begins)\nStart your day with more calm\, clarity\, and focus — wherever you are in the world. \nSign up here \nhttps://meditatewithdhyan.com \nFrom May 4\, I’m guiding a new round of the 21-day live meditation program.\nYou can join the first 5 days for free (May 4–8) and experience it for yourself. \nFor some\, this is early morning.\nFor others\, it’s later in the day. \nWhat matters is this:\n=> a consistent moment to step out of your busy mind\n=> and start your day from a more grounded place \nThis is not about stopping your thoughts.\nIt’s about learning to relate to them differently. \nSimple. Practical. Grounded. \n📅 Date: May 4 – May 25\, 2026 \n🕖 Time (choose your daily start moment):\n• 🇳🇱 Amsterdam: 06:30 / 07:00 / 08:15\n• 🇪🇪 Tallinn: 07:30 / 08:00 / 09:15\n• 🇦🇪 Dubai: 08:30 / 09:00 / 10:15\n• 🇹🇭 Bangkok: 11:30 / 12:00 / 13:15\n• 🇦🇺 Sydney: 14:30 / 15:00 / 16:15 \n(You can switch time slots during the week) \n⸻ \n🕖 Duration: 25–60 minutes\n📍 Location: Online (Zoom)\n💰 Price: First 5 days free • Full program €89 \nSign up here \nhttps://meditatewithdhyan.com \nContact \nName: Dhyan Meinoud\nEmail: meinoud@gmail.com\nWhatsapp: +31630583939\nInstagram: http://instagram.com/dhyan_meinoud_rijnen \n⸻ \nAbout Organiser \nDhyan is a meditation teacher and clarity coach helping busy professionals step out of overthinking and reconnect with clarity\, calm\, and direction. \nWith 20+ years of experience in meditation and retreats\, his approach is simple:\nnot forcing answers — but learning how to return to presence. \n  \n 
URL:https://mindbodism.com/event/21-day-morning-meditation-wherever-your-day-begins/2026-06-04/
CATEGORIES:Courses,Online Event
ATTACH;FMTTYPE=image/png:https://mindbodism.com/wp-content/uploads/2026/04/Untitled-design.png
END:VEVENT
BEGIN:VEVENT
DTSTART;TZID=Europe/Paris:20260605T063000
DTEND;TZID=Europe/Paris:20260609T093000
DTSTAMP:20260420T071635
CREATED:20260416T143226Z
LAST-MODIFIED:20260416T152438Z
UID:10000705-1780641000-1780997400@mindbodism.com
SUMMARY:21-Day Morning Meditation (Wherever Your Day Begins)
DESCRIPTION:21-Day Morning Meditation (Wherever Your Day Begins)\nStart your day with more calm\, clarity\, and focus — wherever you are in the world. \nSign up here \nhttps://meditatewithdhyan.com \nFrom May 4\, I’m guiding a new round of the 21-day live meditation program.\nYou can join the first 5 days for free (May 4–8) and experience it for yourself. \nFor some\, this is early morning.\nFor others\, it’s later in the day. \nWhat matters is this:\n=> a consistent moment to step out of your busy mind\n=> and start your day from a more grounded place \nThis is not about stopping your thoughts.\nIt’s about learning to relate to them differently. \nSimple. Practical. Grounded. \n📅 Date: May 4 – May 25\, 2026 \n🕖 Time (choose your daily start moment):\n• 🇳🇱 Amsterdam: 06:30 / 07:00 / 08:15\n• 🇪🇪 Tallinn: 07:30 / 08:00 / 09:15\n• 🇦🇪 Dubai: 08:30 / 09:00 / 10:15\n• 🇹🇭 Bangkok: 11:30 / 12:00 / 13:15\n• 🇦🇺 Sydney: 14:30 / 15:00 / 16:15 \n(You can switch time slots during the week) \n⸻ \n🕖 Duration: 25–60 minutes\n📍 Location: Online (Zoom)\n💰 Price: First 5 days free • Full program €89 \nSign up here \nhttps://meditatewithdhyan.com \nContact \nName: Dhyan Meinoud\nEmail: meinoud@gmail.com\nWhatsapp: +31630583939\nInstagram: http://instagram.com/dhyan_meinoud_rijnen \n⸻ \nAbout Organiser \nDhyan is a meditation teacher and clarity coach helping busy professionals step out of overthinking and reconnect with clarity\, calm\, and direction. \nWith 20+ years of experience in meditation and retreats\, his approach is simple:\nnot forcing answers — but learning how to return to presence. \n  \n 
URL:https://mindbodism.com/event/21-day-morning-meditation-wherever-your-day-begins/2026-06-05/
CATEGORIES:Courses,Online Event
ATTACH;FMTTYPE=image/png:https://mindbodism.com/wp-content/uploads/2026/04/Untitled-design.png
END:VEVENT
BEGIN:VEVENT
DTSTART;TZID=Europe/Paris:20260606T063000
DTEND;TZID=Europe/Paris:20260610T093000
DTSTAMP:20260420T071635
CREATED:20260416T143226Z
LAST-MODIFIED:20260416T152438Z
UID:10000706-1780727400-1781083800@mindbodism.com
SUMMARY:21-Day Morning Meditation (Wherever Your Day Begins)
DESCRIPTION:21-Day Morning Meditation (Wherever Your Day Begins)\nStart your day with more calm\, clarity\, and focus — wherever you are in the world. \nSign up here \nhttps://meditatewithdhyan.com \nFrom May 4\, I’m guiding a new round of the 21-day live meditation program.\nYou can join the first 5 days for free (May 4–8) and experience it for yourself. \nFor some\, this is early morning.\nFor others\, it’s later in the day. \nWhat matters is this:\n=> a consistent moment to step out of your busy mind\n=> and start your day from a more grounded place \nThis is not about stopping your thoughts.\nIt’s about learning to relate to them differently. \nSimple. Practical. Grounded. \n📅 Date: May 4 – May 25\, 2026 \n🕖 Time (choose your daily start moment):\n• 🇳🇱 Amsterdam: 06:30 / 07:00 / 08:15\n• 🇪🇪 Tallinn: 07:30 / 08:00 / 09:15\n• 🇦🇪 Dubai: 08:30 / 09:00 / 10:15\n• 🇹🇭 Bangkok: 11:30 / 12:00 / 13:15\n• 🇦🇺 Sydney: 14:30 / 15:00 / 16:15 \n(You can switch time slots during the week) \n⸻ \n🕖 Duration: 25–60 minutes\n📍 Location: Online (Zoom)\n💰 Price: First 5 days free • Full program €89 \nSign up here \nhttps://meditatewithdhyan.com \nContact \nName: Dhyan Meinoud\nEmail: meinoud@gmail.com\nWhatsapp: +31630583939\nInstagram: http://instagram.com/dhyan_meinoud_rijnen \n⸻ \nAbout Organiser \nDhyan is a meditation teacher and clarity coach helping busy professionals step out of overthinking and reconnect with clarity\, calm\, and direction. \nWith 20+ years of experience in meditation and retreats\, his approach is simple:\nnot forcing answers — but learning how to return to presence. \n  \n 
URL:https://mindbodism.com/event/21-day-morning-meditation-wherever-your-day-begins/2026-06-06/
CATEGORIES:Courses,Online Event
ATTACH;FMTTYPE=image/png:https://mindbodism.com/wp-content/uploads/2026/04/Untitled-design.png
END:VEVENT
BEGIN:VEVENT
DTSTART;TZID=Europe/Paris:20260607T063000
DTEND;TZID=Europe/Paris:20260611T093000
DTSTAMP:20260420T071635
CREATED:20260416T143226Z
LAST-MODIFIED:20260416T152438Z
UID:10000707-1780813800-1781170200@mindbodism.com
SUMMARY:21-Day Morning Meditation (Wherever Your Day Begins)
DESCRIPTION:21-Day Morning Meditation (Wherever Your Day Begins)\nStart your day with more calm\, clarity\, and focus — wherever you are in the world. \nSign up here \nhttps://meditatewithdhyan.com \nFrom May 4\, I’m guiding a new round of the 21-day live meditation program.\nYou can join the first 5 days for free (May 4–8) and experience it for yourself. \nFor some\, this is early morning.\nFor others\, it’s later in the day. \nWhat matters is this:\n=> a consistent moment to step out of your busy mind\n=> and start your day from a more grounded place \nThis is not about stopping your thoughts.\nIt’s about learning to relate to them differently. \nSimple. Practical. Grounded. \n📅 Date: May 4 – May 25\, 2026 \n🕖 Time (choose your daily start moment):\n• 🇳🇱 Amsterdam: 06:30 / 07:00 / 08:15\n• 🇪🇪 Tallinn: 07:30 / 08:00 / 09:15\n• 🇦🇪 Dubai: 08:30 / 09:00 / 10:15\n• 🇹🇭 Bangkok: 11:30 / 12:00 / 13:15\n• 🇦🇺 Sydney: 14:30 / 15:00 / 16:15 \n(You can switch time slots during the week) \n⸻ \n🕖 Duration: 25–60 minutes\n📍 Location: Online (Zoom)\n💰 Price: First 5 days free • Full program €89 \nSign up here \nhttps://meditatewithdhyan.com \nContact \nName: Dhyan Meinoud\nEmail: meinoud@gmail.com\nWhatsapp: +31630583939\nInstagram: http://instagram.com/dhyan_meinoud_rijnen \n⸻ \nAbout Organiser \nDhyan is a meditation teacher and clarity coach helping busy professionals step out of overthinking and reconnect with clarity\, calm\, and direction. \nWith 20+ years of experience in meditation and retreats\, his approach is simple:\nnot forcing answers — but learning how to return to presence. \n  \n 
URL:https://mindbodism.com/event/21-day-morning-meditation-wherever-your-day-begins/2026-06-07/
CATEGORIES:Courses,Online Event
ATTACH;FMTTYPE=image/png:https://mindbodism.com/wp-content/uploads/2026/04/Untitled-design.png
END:VEVENT
BEGIN:VEVENT
DTSTART;TZID=Europe/Paris:20260608T063000
DTEND;TZID=Europe/Paris:20260612T093000
DTSTAMP:20260420T071635
CREATED:20260416T143226Z
LAST-MODIFIED:20260416T152438Z
UID:10000708-1780900200-1781256600@mindbodism.com
SUMMARY:21-Day Morning Meditation (Wherever Your Day Begins)
DESCRIPTION:21-Day Morning Meditation (Wherever Your Day Begins)\nStart your day with more calm\, clarity\, and focus — wherever you are in the world. \nSign up here \nhttps://meditatewithdhyan.com \nFrom May 4\, I’m guiding a new round of the 21-day live meditation program.\nYou can join the first 5 days for free (May 4–8) and experience it for yourself. \nFor some\, this is early morning.\nFor others\, it’s later in the day. \nWhat matters is this:\n=> a consistent moment to step out of your busy mind\n=> and start your day from a more grounded place \nThis is not about stopping your thoughts.\nIt’s about learning to relate to them differently. \nSimple. Practical. Grounded. \n📅 Date: May 4 – May 25\, 2026 \n🕖 Time (choose your daily start moment):\n• 🇳🇱 Amsterdam: 06:30 / 07:00 / 08:15\n• 🇪🇪 Tallinn: 07:30 / 08:00 / 09:15\n• 🇦🇪 Dubai: 08:30 / 09:00 / 10:15\n• 🇹🇭 Bangkok: 11:30 / 12:00 / 13:15\n• 🇦🇺 Sydney: 14:30 / 15:00 / 16:15 \n(You can switch time slots during the week) \n⸻ \n🕖 Duration: 25–60 minutes\n📍 Location: Online (Zoom)\n💰 Price: First 5 days free • Full program €89 \nSign up here \nhttps://meditatewithdhyan.com \nContact \nName: Dhyan Meinoud\nEmail: meinoud@gmail.com\nWhatsapp: +31630583939\nInstagram: http://instagram.com/dhyan_meinoud_rijnen \n⸻ \nAbout Organiser \nDhyan is a meditation teacher and clarity coach helping busy professionals step out of overthinking and reconnect with clarity\, calm\, and direction. \nWith 20+ years of experience in meditation and retreats\, his approach is simple:\nnot forcing answers — but learning how to return to presence. \n  \n 
URL:https://mindbodism.com/event/21-day-morning-meditation-wherever-your-day-begins/2026-06-08/
CATEGORIES:Courses,Online Event
ATTACH;FMTTYPE=image/png:https://mindbodism.com/wp-content/uploads/2026/04/Untitled-design.png
END:VEVENT
BEGIN:VEVENT
DTSTART;TZID=Europe/Paris:20260609T063000
DTEND;TZID=Europe/Paris:20260613T093000
DTSTAMP:20260420T071635
CREATED:20260416T143226Z
LAST-MODIFIED:20260416T152438Z
UID:10000709-1780986600-1781343000@mindbodism.com
SUMMARY:21-Day Morning Meditation (Wherever Your Day Begins)
DESCRIPTION:21-Day Morning Meditation (Wherever Your Day Begins)\nStart your day with more calm\, clarity\, and focus — wherever you are in the world. \nSign up here \nhttps://meditatewithdhyan.com \nFrom May 4\, I’m guiding a new round of the 21-day live meditation program.\nYou can join the first 5 days for free (May 4–8) and experience it for yourself. \nFor some\, this is early morning.\nFor others\, it’s later in the day. \nWhat matters is this:\n=> a consistent moment to step out of your busy mind\n=> and start your day from a more grounded place \nThis is not about stopping your thoughts.\nIt’s about learning to relate to them differently. \nSimple. Practical. Grounded. \n📅 Date: May 4 – May 25\, 2026 \n🕖 Time (choose your daily start moment):\n• 🇳🇱 Amsterdam: 06:30 / 07:00 / 08:15\n• 🇪🇪 Tallinn: 07:30 / 08:00 / 09:15\n• 🇦🇪 Dubai: 08:30 / 09:00 / 10:15\n• 🇹🇭 Bangkok: 11:30 / 12:00 / 13:15\n• 🇦🇺 Sydney: 14:30 / 15:00 / 16:15 \n(You can switch time slots during the week) \n⸻ \n🕖 Duration: 25–60 minutes\n📍 Location: Online (Zoom)\n💰 Price: First 5 days free • Full program €89 \nSign up here \nhttps://meditatewithdhyan.com \nContact \nName: Dhyan Meinoud\nEmail: meinoud@gmail.com\nWhatsapp: +31630583939\nInstagram: http://instagram.com/dhyan_meinoud_rijnen \n⸻ \nAbout Organiser \nDhyan is a meditation teacher and clarity coach helping busy professionals step out of overthinking and reconnect with clarity\, calm\, and direction. \nWith 20+ years of experience in meditation and retreats\, his approach is simple:\nnot forcing answers — but learning how to return to presence. \n  \n 
URL:https://mindbodism.com/event/21-day-morning-meditation-wherever-your-day-begins/2026-06-09/
CATEGORIES:Courses,Online Event
ATTACH;FMTTYPE=image/png:https://mindbodism.com/wp-content/uploads/2026/04/Untitled-design.png
END:VEVENT
BEGIN:VEVENT
DTSTART;TZID=Europe/Paris:20260610T063000
DTEND;TZID=Europe/Paris:20260614T093000
DTSTAMP:20260420T071635
CREATED:20260416T143226Z
LAST-MODIFIED:20260416T152438Z
UID:10000710-1781073000-1781429400@mindbodism.com
SUMMARY:21-Day Morning Meditation (Wherever Your Day Begins)
DESCRIPTION:21-Day Morning Meditation (Wherever Your Day Begins)\nStart your day with more calm\, clarity\, and focus — wherever you are in the world. \nSign up here \nhttps://meditatewithdhyan.com \nFrom May 4\, I’m guiding a new round of the 21-day live meditation program.\nYou can join the first 5 days for free (May 4–8) and experience it for yourself. \nFor some\, this is early morning.\nFor others\, it’s later in the day. \nWhat matters is this:\n=> a consistent moment to step out of your busy mind\n=> and start your day from a more grounded place \nThis is not about stopping your thoughts.\nIt’s about learning to relate to them differently. \nSimple. Practical. Grounded. \n📅 Date: May 4 – May 25\, 2026 \n🕖 Time (choose your daily start moment):\n• 🇳🇱 Amsterdam: 06:30 / 07:00 / 08:15\n• 🇪🇪 Tallinn: 07:30 / 08:00 / 09:15\n• 🇦🇪 Dubai: 08:30 / 09:00 / 10:15\n• 🇹🇭 Bangkok: 11:30 / 12:00 / 13:15\n• 🇦🇺 Sydney: 14:30 / 15:00 / 16:15 \n(You can switch time slots during the week) \n⸻ \n🕖 Duration: 25–60 minutes\n📍 Location: Online (Zoom)\n💰 Price: First 5 days free • Full program €89 \nSign up here \nhttps://meditatewithdhyan.com \nContact \nName: Dhyan Meinoud\nEmail: meinoud@gmail.com\nWhatsapp: +31630583939\nInstagram: http://instagram.com/dhyan_meinoud_rijnen \n⸻ \nAbout Organiser \nDhyan is a meditation teacher and clarity coach helping busy professionals step out of overthinking and reconnect with clarity\, calm\, and direction. \nWith 20+ years of experience in meditation and retreats\, his approach is simple:\nnot forcing answers — but learning how to return to presence. \n  \n 
URL:https://mindbodism.com/event/21-day-morning-meditation-wherever-your-day-begins/2026-06-10/
CATEGORIES:Courses,Online Event
ATTACH;FMTTYPE=image/png:https://mindbodism.com/wp-content/uploads/2026/04/Untitled-design.png
END:VEVENT
BEGIN:VEVENT
DTSTART;TZID=Europe/Paris:20260611T063000
DTEND;TZID=Europe/Paris:20260615T093000
DTSTAMP:20260420T071635
CREATED:20260416T143226Z
LAST-MODIFIED:20260416T152438Z
UID:10000711-1781159400-1781515800@mindbodism.com
SUMMARY:21-Day Morning Meditation (Wherever Your Day Begins)
DESCRIPTION:21-Day Morning Meditation (Wherever Your Day Begins)\nStart your day with more calm\, clarity\, and focus — wherever you are in the world. \nSign up here \nhttps://meditatewithdhyan.com \nFrom May 4\, I’m guiding a new round of the 21-day live meditation program.\nYou can join the first 5 days for free (May 4–8) and experience it for yourself. \nFor some\, this is early morning.\nFor others\, it’s later in the day. \nWhat matters is this:\n=> a consistent moment to step out of your busy mind\n=> and start your day from a more grounded place \nThis is not about stopping your thoughts.\nIt’s about learning to relate to them differently. \nSimple. Practical. Grounded. \n📅 Date: May 4 – May 25\, 2026 \n🕖 Time (choose your daily start moment):\n• 🇳🇱 Amsterdam: 06:30 / 07:00 / 08:15\n• 🇪🇪 Tallinn: 07:30 / 08:00 / 09:15\n• 🇦🇪 Dubai: 08:30 / 09:00 / 10:15\n• 🇹🇭 Bangkok: 11:30 / 12:00 / 13:15\n• 🇦🇺 Sydney: 14:30 / 15:00 / 16:15 \n(You can switch time slots during the week) \n⸻ \n🕖 Duration: 25–60 minutes\n📍 Location: Online (Zoom)\n💰 Price: First 5 days free • Full program €89 \nSign up here \nhttps://meditatewithdhyan.com \nContact \nName: Dhyan Meinoud\nEmail: meinoud@gmail.com\nWhatsapp: +31630583939\nInstagram: http://instagram.com/dhyan_meinoud_rijnen \n⸻ \nAbout Organiser \nDhyan is a meditation teacher and clarity coach helping busy professionals step out of overthinking and reconnect with clarity\, calm\, and direction. \nWith 20+ years of experience in meditation and retreats\, his approach is simple:\nnot forcing answers — but learning how to return to presence. \n  \n 
URL:https://mindbodism.com/event/21-day-morning-meditation-wherever-your-day-begins/2026-06-11/
CATEGORIES:Courses,Online Event
ATTACH;FMTTYPE=image/png:https://mindbodism.com/wp-content/uploads/2026/04/Untitled-design.png
END:VEVENT
BEGIN:VEVENT
DTSTART;TZID=Europe/Paris:20260612T063000
DTEND;TZID=Europe/Paris:20260616T093000
DTSTAMP:20260420T071635
CREATED:20260416T143226Z
LAST-MODIFIED:20260416T152438Z
UID:10000712-1781245800-1781602200@mindbodism.com
SUMMARY:21-Day Morning Meditation (Wherever Your Day Begins)
DESCRIPTION:21-Day Morning Meditation (Wherever Your Day Begins)\nStart your day with more calm\, clarity\, and focus — wherever you are in the world. \nSign up here \nhttps://meditatewithdhyan.com \nFrom May 4\, I’m guiding a new round of the 21-day live meditation program.\nYou can join the first 5 days for free (May 4–8) and experience it for yourself. \nFor some\, this is early morning.\nFor others\, it’s later in the day. \nWhat matters is this:\n=> a consistent moment to step out of your busy mind\n=> and start your day from a more grounded place \nThis is not about stopping your thoughts.\nIt’s about learning to relate to them differently. \nSimple. Practical. Grounded. \n📅 Date: May 4 – May 25\, 2026 \n🕖 Time (choose your daily start moment):\n• 🇳🇱 Amsterdam: 06:30 / 07:00 / 08:15\n• 🇪🇪 Tallinn: 07:30 / 08:00 / 09:15\n• 🇦🇪 Dubai: 08:30 / 09:00 / 10:15\n• 🇹🇭 Bangkok: 11:30 / 12:00 / 13:15\n• 🇦🇺 Sydney: 14:30 / 15:00 / 16:15 \n(You can switch time slots during the week) \n⸻ \n🕖 Duration: 25–60 minutes\n📍 Location: Online (Zoom)\n💰 Price: First 5 days free • Full program €89 \nSign up here \nhttps://meditatewithdhyan.com \nContact \nName: Dhyan Meinoud\nEmail: meinoud@gmail.com\nWhatsapp: +31630583939\nInstagram: http://instagram.com/dhyan_meinoud_rijnen \n⸻ \nAbout Organiser \nDhyan is a meditation teacher and clarity coach helping busy professionals step out of overthinking and reconnect with clarity\, calm\, and direction. \nWith 20+ years of experience in meditation and retreats\, his approach is simple:\nnot forcing answers — but learning how to return to presence. \n  \n 
URL:https://mindbodism.com/event/21-day-morning-meditation-wherever-your-day-begins/2026-06-12/
CATEGORIES:Courses,Online Event
ATTACH;FMTTYPE=image/png:https://mindbodism.com/wp-content/uploads/2026/04/Untitled-design.png
END:VEVENT
BEGIN:VEVENT
DTSTART;TZID=Europe/Paris:20260613T063000
DTEND;TZID=Europe/Paris:20260617T093000
DTSTAMP:20260420T071635
CREATED:20260416T143226Z
LAST-MODIFIED:20260416T152438Z
UID:10000713-1781332200-1781688600@mindbodism.com
SUMMARY:21-Day Morning Meditation (Wherever Your Day Begins)
DESCRIPTION:21-Day Morning Meditation (Wherever Your Day Begins)\nStart your day with more calm\, clarity\, and focus — wherever you are in the world. \nSign up here \nhttps://meditatewithdhyan.com \nFrom May 4\, I’m guiding a new round of the 21-day live meditation program.\nYou can join the first 5 days for free (May 4–8) and experience it for yourself. \nFor some\, this is early morning.\nFor others\, it’s later in the day. \nWhat matters is this:\n=> a consistent moment to step out of your busy mind\n=> and start your day from a more grounded place \nThis is not about stopping your thoughts.\nIt’s about learning to relate to them differently. \nSimple. Practical. Grounded. \n📅 Date: May 4 – May 25\, 2026 \n🕖 Time (choose your daily start moment):\n• 🇳🇱 Amsterdam: 06:30 / 07:00 / 08:15\n• 🇪🇪 Tallinn: 07:30 / 08:00 / 09:15\n• 🇦🇪 Dubai: 08:30 / 09:00 / 10:15\n• 🇹🇭 Bangkok: 11:30 / 12:00 / 13:15\n• 🇦🇺 Sydney: 14:30 / 15:00 / 16:15 \n(You can switch time slots during the week) \n⸻ \n🕖 Duration: 25–60 minutes\n📍 Location: Online (Zoom)\n💰 Price: First 5 days free • Full program €89 \nSign up here \nhttps://meditatewithdhyan.com \nContact \nName: Dhyan Meinoud\nEmail: meinoud@gmail.com\nWhatsapp: +31630583939\nInstagram: http://instagram.com/dhyan_meinoud_rijnen \n⸻ \nAbout Organiser \nDhyan is a meditation teacher and clarity coach helping busy professionals step out of overthinking and reconnect with clarity\, calm\, and direction. \nWith 20+ years of experience in meditation and retreats\, his approach is simple:\nnot forcing answers — but learning how to return to presence. \n  \n 
URL:https://mindbodism.com/event/21-day-morning-meditation-wherever-your-day-begins/2026-06-13/
CATEGORIES:Courses,Online Event
ATTACH;FMTTYPE=image/png:https://mindbodism.com/wp-content/uploads/2026/04/Untitled-design.png
END:VEVENT
BEGIN:VEVENT
DTSTART;TZID=Europe/Paris:20260614T063000
DTEND;TZID=Europe/Paris:20260618T093000
DTSTAMP:20260420T071635
CREATED:20260416T143226Z
LAST-MODIFIED:20260416T152438Z
UID:10000714-1781418600-1781775000@mindbodism.com
SUMMARY:21-Day Morning Meditation (Wherever Your Day Begins)
DESCRIPTION:21-Day Morning Meditation (Wherever Your Day Begins)\nStart your day with more calm\, clarity\, and focus — wherever you are in the world. \nSign up here \nhttps://meditatewithdhyan.com \nFrom May 4\, I’m guiding a new round of the 21-day live meditation program.\nYou can join the first 5 days for free (May 4–8) and experience it for yourself. \nFor some\, this is early morning.\nFor others\, it’s later in the day. \nWhat matters is this:\n=> a consistent moment to step out of your busy mind\n=> and start your day from a more grounded place \nThis is not about stopping your thoughts.\nIt’s about learning to relate to them differently. \nSimple. Practical. Grounded. \n📅 Date: May 4 – May 25\, 2026 \n🕖 Time (choose your daily start moment):\n• 🇳🇱 Amsterdam: 06:30 / 07:00 / 08:15\n• 🇪🇪 Tallinn: 07:30 / 08:00 / 09:15\n• 🇦🇪 Dubai: 08:30 / 09:00 / 10:15\n• 🇹🇭 Bangkok: 11:30 / 12:00 / 13:15\n• 🇦🇺 Sydney: 14:30 / 15:00 / 16:15 \n(You can switch time slots during the week) \n⸻ \n🕖 Duration: 25–60 minutes\n📍 Location: Online (Zoom)\n💰 Price: First 5 days free • Full program €89 \nSign up here \nhttps://meditatewithdhyan.com \nContact \nName: Dhyan Meinoud\nEmail: meinoud@gmail.com\nWhatsapp: +31630583939\nInstagram: http://instagram.com/dhyan_meinoud_rijnen \n⸻ \nAbout Organiser \nDhyan is a meditation teacher and clarity coach helping busy professionals step out of overthinking and reconnect with clarity\, calm\, and direction. \nWith 20+ years of experience in meditation and retreats\, his approach is simple:\nnot forcing answers — but learning how to return to presence. \n  \n 
URL:https://mindbodism.com/event/21-day-morning-meditation-wherever-your-day-begins/2026-06-14/
CATEGORIES:Courses,Online Event
ATTACH;FMTTYPE=image/png:https://mindbodism.com/wp-content/uploads/2026/04/Untitled-design.png
END:VEVENT
END:VCALENDAR