BEGIN:VCALENDAR
VERSION:2.0
PRODID:-//Mindbodism - ECPv6.15.14//NONSGML v1.0//EN
CALSCALE:GREGORIAN
METHOD:PUBLISH
X-ORIGINAL-URL:https://mindbodism.com
X-WR-CALDESC:Events for Mindbodism
REFRESH-INTERVAL;VALUE=DURATION:PT1H
X-Robots-Tag:noindex
X-PUBLISHED-TTL:PT1H
BEGIN:VTIMEZONE
TZID:Europe/Paris
BEGIN:DAYLIGHT
TZOFFSETFROM:+0100
TZOFFSETTO:+0200
TZNAME:CEST
DTSTART:20250330T010000
END:DAYLIGHT
BEGIN:STANDARD
TZOFFSETFROM:+0200
TZOFFSETTO:+0100
TZNAME:CET
DTSTART:20251026T010000
END:STANDARD
BEGIN:DAYLIGHT
TZOFFSETFROM:+0100
TZOFFSETTO:+0200
TZNAME:CEST
DTSTART:20260329T010000
END:DAYLIGHT
BEGIN:STANDARD
TZOFFSETFROM:+0200
TZOFFSETTO:+0100
TZNAME:CET
DTSTART:20261025T010000
END:STANDARD
BEGIN:DAYLIGHT
TZOFFSETFROM:+0100
TZOFFSETTO:+0200
TZNAME:CEST
DTSTART:20270328T010000
END:DAYLIGHT
BEGIN:STANDARD
TZOFFSETFROM:+0200
TZOFFSETTO:+0100
TZNAME:CET
DTSTART:20271031T010000
END:STANDARD
END:VTIMEZONE
BEGIN:VEVENT
DTSTART;TZID=Europe/Paris:20260813T063000
DTEND;TZID=Europe/Paris:20260817T093000
DTSTAMP:20260425T142249
CREATED:20260416T143226Z
LAST-MODIFIED:20260416T152438Z
UID:10000774-1786602600-1786959000@mindbodism.com
SUMMARY:21-Day Morning Meditation (Wherever Your Day Begins)
DESCRIPTION:21-Day Morning Meditation (Wherever Your Day Begins)\nStart your day with more calm\, clarity\, and focus — wherever you are in the world. \nSign up here \nhttps://meditatewithdhyan.com \nFrom May 4\, I’m guiding a new round of the 21-day live meditation program.\nYou can join the first 5 days for free (May 4–8) and experience it for yourself. \nFor some\, this is early morning.\nFor others\, it’s later in the day. \nWhat matters is this:\n=> a consistent moment to step out of your busy mind\n=> and start your day from a more grounded place \nThis is not about stopping your thoughts.\nIt’s about learning to relate to them differently. \nSimple. Practical. Grounded. \n📅 Date: May 4 – May 25\, 2026 \n🕖 Time (choose your daily start moment):\n• 🇳🇱 Amsterdam: 06:30 / 07:00 / 08:15\n• 🇪🇪 Tallinn: 07:30 / 08:00 / 09:15\n• 🇦🇪 Dubai: 08:30 / 09:00 / 10:15\n• 🇹🇭 Bangkok: 11:30 / 12:00 / 13:15\n• 🇦🇺 Sydney: 14:30 / 15:00 / 16:15 \n(You can switch time slots during the week) \n⸻ \n🕖 Duration: 25–60 minutes\n📍 Location: Online (Zoom)\n💰 Price: First 5 days free • Full program €89 \nSign up here \nhttps://meditatewithdhyan.com \nContact \nName: Dhyan Meinoud\nEmail: meinoud@gmail.com\nWhatsapp: +31630583939\nInstagram: http://instagram.com/dhyan_meinoud_rijnen \n⸻ \nAbout Organiser \nDhyan is a meditation teacher and clarity coach helping busy professionals step out of overthinking and reconnect with clarity\, calm\, and direction. \nWith 20+ years of experience in meditation and retreats\, his approach is simple:\nnot forcing answers — but learning how to return to presence. \n  \n 
URL:https://mindbodism.com/event/21-day-morning-meditation-wherever-your-day-begins/2026-08-13/
CATEGORIES:Courses,Online Event
ATTACH;FMTTYPE=image/png:https://mindbodism.com/wp-content/uploads/2026/04/Untitled-design.png
END:VEVENT
BEGIN:VEVENT
DTSTART;TZID=Europe/Paris:20260814T063000
DTEND;TZID=Europe/Paris:20260818T093000
DTSTAMP:20260425T142249
CREATED:20260416T143226Z
LAST-MODIFIED:20260416T152438Z
UID:10000775-1786689000-1787045400@mindbodism.com
SUMMARY:21-Day Morning Meditation (Wherever Your Day Begins)
DESCRIPTION:21-Day Morning Meditation (Wherever Your Day Begins)\nStart your day with more calm\, clarity\, and focus — wherever you are in the world. \nSign up here \nhttps://meditatewithdhyan.com \nFrom May 4\, I’m guiding a new round of the 21-day live meditation program.\nYou can join the first 5 days for free (May 4–8) and experience it for yourself. \nFor some\, this is early morning.\nFor others\, it’s later in the day. \nWhat matters is this:\n=> a consistent moment to step out of your busy mind\n=> and start your day from a more grounded place \nThis is not about stopping your thoughts.\nIt’s about learning to relate to them differently. \nSimple. Practical. Grounded. \n📅 Date: May 4 – May 25\, 2026 \n🕖 Time (choose your daily start moment):\n• 🇳🇱 Amsterdam: 06:30 / 07:00 / 08:15\n• 🇪🇪 Tallinn: 07:30 / 08:00 / 09:15\n• 🇦🇪 Dubai: 08:30 / 09:00 / 10:15\n• 🇹🇭 Bangkok: 11:30 / 12:00 / 13:15\n• 🇦🇺 Sydney: 14:30 / 15:00 / 16:15 \n(You can switch time slots during the week) \n⸻ \n🕖 Duration: 25–60 minutes\n📍 Location: Online (Zoom)\n💰 Price: First 5 days free • Full program €89 \nSign up here \nhttps://meditatewithdhyan.com \nContact \nName: Dhyan Meinoud\nEmail: meinoud@gmail.com\nWhatsapp: +31630583939\nInstagram: http://instagram.com/dhyan_meinoud_rijnen \n⸻ \nAbout Organiser \nDhyan is a meditation teacher and clarity coach helping busy professionals step out of overthinking and reconnect with clarity\, calm\, and direction. \nWith 20+ years of experience in meditation and retreats\, his approach is simple:\nnot forcing answers — but learning how to return to presence. \n  \n 
URL:https://mindbodism.com/event/21-day-morning-meditation-wherever-your-day-begins/2026-08-14/
CATEGORIES:Courses,Online Event
ATTACH;FMTTYPE=image/png:https://mindbodism.com/wp-content/uploads/2026/04/Untitled-design.png
END:VEVENT
BEGIN:VEVENT
DTSTART;TZID=Europe/Paris:20260815T063000
DTEND;TZID=Europe/Paris:20260819T093000
DTSTAMP:20260425T142249
CREATED:20260416T143226Z
LAST-MODIFIED:20260416T152438Z
UID:10000776-1786775400-1787131800@mindbodism.com
SUMMARY:21-Day Morning Meditation (Wherever Your Day Begins)
DESCRIPTION:21-Day Morning Meditation (Wherever Your Day Begins)\nStart your day with more calm\, clarity\, and focus — wherever you are in the world. \nSign up here \nhttps://meditatewithdhyan.com \nFrom May 4\, I’m guiding a new round of the 21-day live meditation program.\nYou can join the first 5 days for free (May 4–8) and experience it for yourself. \nFor some\, this is early morning.\nFor others\, it’s later in the day. \nWhat matters is this:\n=> a consistent moment to step out of your busy mind\n=> and start your day from a more grounded place \nThis is not about stopping your thoughts.\nIt’s about learning to relate to them differently. \nSimple. Practical. Grounded. \n📅 Date: May 4 – May 25\, 2026 \n🕖 Time (choose your daily start moment):\n• 🇳🇱 Amsterdam: 06:30 / 07:00 / 08:15\n• 🇪🇪 Tallinn: 07:30 / 08:00 / 09:15\n• 🇦🇪 Dubai: 08:30 / 09:00 / 10:15\n• 🇹🇭 Bangkok: 11:30 / 12:00 / 13:15\n• 🇦🇺 Sydney: 14:30 / 15:00 / 16:15 \n(You can switch time slots during the week) \n⸻ \n🕖 Duration: 25–60 minutes\n📍 Location: Online (Zoom)\n💰 Price: First 5 days free • Full program €89 \nSign up here \nhttps://meditatewithdhyan.com \nContact \nName: Dhyan Meinoud\nEmail: meinoud@gmail.com\nWhatsapp: +31630583939\nInstagram: http://instagram.com/dhyan_meinoud_rijnen \n⸻ \nAbout Organiser \nDhyan is a meditation teacher and clarity coach helping busy professionals step out of overthinking and reconnect with clarity\, calm\, and direction. \nWith 20+ years of experience in meditation and retreats\, his approach is simple:\nnot forcing answers — but learning how to return to presence. \n  \n 
URL:https://mindbodism.com/event/21-day-morning-meditation-wherever-your-day-begins/2026-08-15/
CATEGORIES:Courses,Online Event
ATTACH;FMTTYPE=image/png:https://mindbodism.com/wp-content/uploads/2026/04/Untitled-design.png
END:VEVENT
BEGIN:VEVENT
DTSTART;TZID=Europe/Paris:20260816T063000
DTEND;TZID=Europe/Paris:20260820T093000
DTSTAMP:20260425T142249
CREATED:20260416T143226Z
LAST-MODIFIED:20260416T152438Z
UID:10000777-1786861800-1787218200@mindbodism.com
SUMMARY:21-Day Morning Meditation (Wherever Your Day Begins)
DESCRIPTION:21-Day Morning Meditation (Wherever Your Day Begins)\nStart your day with more calm\, clarity\, and focus — wherever you are in the world. \nSign up here \nhttps://meditatewithdhyan.com \nFrom May 4\, I’m guiding a new round of the 21-day live meditation program.\nYou can join the first 5 days for free (May 4–8) and experience it for yourself. \nFor some\, this is early morning.\nFor others\, it’s later in the day. \nWhat matters is this:\n=> a consistent moment to step out of your busy mind\n=> and start your day from a more grounded place \nThis is not about stopping your thoughts.\nIt’s about learning to relate to them differently. \nSimple. Practical. Grounded. \n📅 Date: May 4 – May 25\, 2026 \n🕖 Time (choose your daily start moment):\n• 🇳🇱 Amsterdam: 06:30 / 07:00 / 08:15\n• 🇪🇪 Tallinn: 07:30 / 08:00 / 09:15\n• 🇦🇪 Dubai: 08:30 / 09:00 / 10:15\n• 🇹🇭 Bangkok: 11:30 / 12:00 / 13:15\n• 🇦🇺 Sydney: 14:30 / 15:00 / 16:15 \n(You can switch time slots during the week) \n⸻ \n🕖 Duration: 25–60 minutes\n📍 Location: Online (Zoom)\n💰 Price: First 5 days free • Full program €89 \nSign up here \nhttps://meditatewithdhyan.com \nContact \nName: Dhyan Meinoud\nEmail: meinoud@gmail.com\nWhatsapp: +31630583939\nInstagram: http://instagram.com/dhyan_meinoud_rijnen \n⸻ \nAbout Organiser \nDhyan is a meditation teacher and clarity coach helping busy professionals step out of overthinking and reconnect with clarity\, calm\, and direction. \nWith 20+ years of experience in meditation and retreats\, his approach is simple:\nnot forcing answers — but learning how to return to presence. \n  \n 
URL:https://mindbodism.com/event/21-day-morning-meditation-wherever-your-day-begins/2026-08-16/
CATEGORIES:Courses,Online Event
ATTACH;FMTTYPE=image/png:https://mindbodism.com/wp-content/uploads/2026/04/Untitled-design.png
END:VEVENT
BEGIN:VEVENT
DTSTART;TZID=Europe/Paris:20260817T063000
DTEND;TZID=Europe/Paris:20260821T093000
DTSTAMP:20260425T142249
CREATED:20260416T143226Z
LAST-MODIFIED:20260416T152438Z
UID:10000778-1786948200-1787304600@mindbodism.com
SUMMARY:21-Day Morning Meditation (Wherever Your Day Begins)
DESCRIPTION:21-Day Morning Meditation (Wherever Your Day Begins)\nStart your day with more calm\, clarity\, and focus — wherever you are in the world. \nSign up here \nhttps://meditatewithdhyan.com \nFrom May 4\, I’m guiding a new round of the 21-day live meditation program.\nYou can join the first 5 days for free (May 4–8) and experience it for yourself. \nFor some\, this is early morning.\nFor others\, it’s later in the day. \nWhat matters is this:\n=> a consistent moment to step out of your busy mind\n=> and start your day from a more grounded place \nThis is not about stopping your thoughts.\nIt’s about learning to relate to them differently. \nSimple. Practical. Grounded. \n📅 Date: May 4 – May 25\, 2026 \n🕖 Time (choose your daily start moment):\n• 🇳🇱 Amsterdam: 06:30 / 07:00 / 08:15\n• 🇪🇪 Tallinn: 07:30 / 08:00 / 09:15\n• 🇦🇪 Dubai: 08:30 / 09:00 / 10:15\n• 🇹🇭 Bangkok: 11:30 / 12:00 / 13:15\n• 🇦🇺 Sydney: 14:30 / 15:00 / 16:15 \n(You can switch time slots during the week) \n⸻ \n🕖 Duration: 25–60 minutes\n📍 Location: Online (Zoom)\n💰 Price: First 5 days free • Full program €89 \nSign up here \nhttps://meditatewithdhyan.com \nContact \nName: Dhyan Meinoud\nEmail: meinoud@gmail.com\nWhatsapp: +31630583939\nInstagram: http://instagram.com/dhyan_meinoud_rijnen \n⸻ \nAbout Organiser \nDhyan is a meditation teacher and clarity coach helping busy professionals step out of overthinking and reconnect with clarity\, calm\, and direction. \nWith 20+ years of experience in meditation and retreats\, his approach is simple:\nnot forcing answers — but learning how to return to presence. \n  \n 
URL:https://mindbodism.com/event/21-day-morning-meditation-wherever-your-day-begins/2026-08-17/
CATEGORIES:Courses,Online Event
ATTACH;FMTTYPE=image/png:https://mindbodism.com/wp-content/uploads/2026/04/Untitled-design.png
END:VEVENT
BEGIN:VEVENT
DTSTART;TZID=Europe/Paris:20260818T063000
DTEND;TZID=Europe/Paris:20260822T093000
DTSTAMP:20260425T142249
CREATED:20260416T143226Z
LAST-MODIFIED:20260416T152438Z
UID:10000779-1787034600-1787391000@mindbodism.com
SUMMARY:21-Day Morning Meditation (Wherever Your Day Begins)
DESCRIPTION:21-Day Morning Meditation (Wherever Your Day Begins)\nStart your day with more calm\, clarity\, and focus — wherever you are in the world. \nSign up here \nhttps://meditatewithdhyan.com \nFrom May 4\, I’m guiding a new round of the 21-day live meditation program.\nYou can join the first 5 days for free (May 4–8) and experience it for yourself. \nFor some\, this is early morning.\nFor others\, it’s later in the day. \nWhat matters is this:\n=> a consistent moment to step out of your busy mind\n=> and start your day from a more grounded place \nThis is not about stopping your thoughts.\nIt’s about learning to relate to them differently. \nSimple. Practical. Grounded. \n📅 Date: May 4 – May 25\, 2026 \n🕖 Time (choose your daily start moment):\n• 🇳🇱 Amsterdam: 06:30 / 07:00 / 08:15\n• 🇪🇪 Tallinn: 07:30 / 08:00 / 09:15\n• 🇦🇪 Dubai: 08:30 / 09:00 / 10:15\n• 🇹🇭 Bangkok: 11:30 / 12:00 / 13:15\n• 🇦🇺 Sydney: 14:30 / 15:00 / 16:15 \n(You can switch time slots during the week) \n⸻ \n🕖 Duration: 25–60 minutes\n📍 Location: Online (Zoom)\n💰 Price: First 5 days free • Full program €89 \nSign up here \nhttps://meditatewithdhyan.com \nContact \nName: Dhyan Meinoud\nEmail: meinoud@gmail.com\nWhatsapp: +31630583939\nInstagram: http://instagram.com/dhyan_meinoud_rijnen \n⸻ \nAbout Organiser \nDhyan is a meditation teacher and clarity coach helping busy professionals step out of overthinking and reconnect with clarity\, calm\, and direction. \nWith 20+ years of experience in meditation and retreats\, his approach is simple:\nnot forcing answers — but learning how to return to presence. \n  \n 
URL:https://mindbodism.com/event/21-day-morning-meditation-wherever-your-day-begins/2026-08-18/
CATEGORIES:Courses,Online Event
ATTACH;FMTTYPE=image/png:https://mindbodism.com/wp-content/uploads/2026/04/Untitled-design.png
END:VEVENT
BEGIN:VEVENT
DTSTART;TZID=Europe/Paris:20260819T063000
DTEND;TZID=Europe/Paris:20260823T093000
DTSTAMP:20260425T142249
CREATED:20260416T143226Z
LAST-MODIFIED:20260416T152438Z
UID:10000780-1787121000-1787477400@mindbodism.com
SUMMARY:21-Day Morning Meditation (Wherever Your Day Begins)
DESCRIPTION:21-Day Morning Meditation (Wherever Your Day Begins)\nStart your day with more calm\, clarity\, and focus — wherever you are in the world. \nSign up here \nhttps://meditatewithdhyan.com \nFrom May 4\, I’m guiding a new round of the 21-day live meditation program.\nYou can join the first 5 days for free (May 4–8) and experience it for yourself. \nFor some\, this is early morning.\nFor others\, it’s later in the day. \nWhat matters is this:\n=> a consistent moment to step out of your busy mind\n=> and start your day from a more grounded place \nThis is not about stopping your thoughts.\nIt’s about learning to relate to them differently. \nSimple. Practical. Grounded. \n📅 Date: May 4 – May 25\, 2026 \n🕖 Time (choose your daily start moment):\n• 🇳🇱 Amsterdam: 06:30 / 07:00 / 08:15\n• 🇪🇪 Tallinn: 07:30 / 08:00 / 09:15\n• 🇦🇪 Dubai: 08:30 / 09:00 / 10:15\n• 🇹🇭 Bangkok: 11:30 / 12:00 / 13:15\n• 🇦🇺 Sydney: 14:30 / 15:00 / 16:15 \n(You can switch time slots during the week) \n⸻ \n🕖 Duration: 25–60 minutes\n📍 Location: Online (Zoom)\n💰 Price: First 5 days free • Full program €89 \nSign up here \nhttps://meditatewithdhyan.com \nContact \nName: Dhyan Meinoud\nEmail: meinoud@gmail.com\nWhatsapp: +31630583939\nInstagram: http://instagram.com/dhyan_meinoud_rijnen \n⸻ \nAbout Organiser \nDhyan is a meditation teacher and clarity coach helping busy professionals step out of overthinking and reconnect with clarity\, calm\, and direction. \nWith 20+ years of experience in meditation and retreats\, his approach is simple:\nnot forcing answers — but learning how to return to presence. \n  \n 
URL:https://mindbodism.com/event/21-day-morning-meditation-wherever-your-day-begins/2026-08-19/
CATEGORIES:Courses,Online Event
ATTACH;FMTTYPE=image/png:https://mindbodism.com/wp-content/uploads/2026/04/Untitled-design.png
END:VEVENT
BEGIN:VEVENT
DTSTART;TZID=Europe/Paris:20260820T063000
DTEND;TZID=Europe/Paris:20260824T093000
DTSTAMP:20260425T142249
CREATED:20260416T143226Z
LAST-MODIFIED:20260416T152438Z
UID:10000781-1787207400-1787563800@mindbodism.com
SUMMARY:21-Day Morning Meditation (Wherever Your Day Begins)
DESCRIPTION:21-Day Morning Meditation (Wherever Your Day Begins)\nStart your day with more calm\, clarity\, and focus — wherever you are in the world. \nSign up here \nhttps://meditatewithdhyan.com \nFrom May 4\, I’m guiding a new round of the 21-day live meditation program.\nYou can join the first 5 days for free (May 4–8) and experience it for yourself. \nFor some\, this is early morning.\nFor others\, it’s later in the day. \nWhat matters is this:\n=> a consistent moment to step out of your busy mind\n=> and start your day from a more grounded place \nThis is not about stopping your thoughts.\nIt’s about learning to relate to them differently. \nSimple. Practical. Grounded. \n📅 Date: May 4 – May 25\, 2026 \n🕖 Time (choose your daily start moment):\n• 🇳🇱 Amsterdam: 06:30 / 07:00 / 08:15\n• 🇪🇪 Tallinn: 07:30 / 08:00 / 09:15\n• 🇦🇪 Dubai: 08:30 / 09:00 / 10:15\n• 🇹🇭 Bangkok: 11:30 / 12:00 / 13:15\n• 🇦🇺 Sydney: 14:30 / 15:00 / 16:15 \n(You can switch time slots during the week) \n⸻ \n🕖 Duration: 25–60 minutes\n📍 Location: Online (Zoom)\n💰 Price: First 5 days free • Full program €89 \nSign up here \nhttps://meditatewithdhyan.com \nContact \nName: Dhyan Meinoud\nEmail: meinoud@gmail.com\nWhatsapp: +31630583939\nInstagram: http://instagram.com/dhyan_meinoud_rijnen \n⸻ \nAbout Organiser \nDhyan is a meditation teacher and clarity coach helping busy professionals step out of overthinking and reconnect with clarity\, calm\, and direction. \nWith 20+ years of experience in meditation and retreats\, his approach is simple:\nnot forcing answers — but learning how to return to presence. \n  \n 
URL:https://mindbodism.com/event/21-day-morning-meditation-wherever-your-day-begins/2026-08-20/
CATEGORIES:Courses,Online Event
ATTACH;FMTTYPE=image/png:https://mindbodism.com/wp-content/uploads/2026/04/Untitled-design.png
END:VEVENT
BEGIN:VEVENT
DTSTART;TZID=Europe/Paris:20260821T063000
DTEND;TZID=Europe/Paris:20260825T093000
DTSTAMP:20260425T142249
CREATED:20260416T143226Z
LAST-MODIFIED:20260416T152438Z
UID:10000782-1787293800-1787650200@mindbodism.com
SUMMARY:21-Day Morning Meditation (Wherever Your Day Begins)
DESCRIPTION:21-Day Morning Meditation (Wherever Your Day Begins)\nStart your day with more calm\, clarity\, and focus — wherever you are in the world. \nSign up here \nhttps://meditatewithdhyan.com \nFrom May 4\, I’m guiding a new round of the 21-day live meditation program.\nYou can join the first 5 days for free (May 4–8) and experience it for yourself. \nFor some\, this is early morning.\nFor others\, it’s later in the day. \nWhat matters is this:\n=> a consistent moment to step out of your busy mind\n=> and start your day from a more grounded place \nThis is not about stopping your thoughts.\nIt’s about learning to relate to them differently. \nSimple. Practical. Grounded. \n📅 Date: May 4 – May 25\, 2026 \n🕖 Time (choose your daily start moment):\n• 🇳🇱 Amsterdam: 06:30 / 07:00 / 08:15\n• 🇪🇪 Tallinn: 07:30 / 08:00 / 09:15\n• 🇦🇪 Dubai: 08:30 / 09:00 / 10:15\n• 🇹🇭 Bangkok: 11:30 / 12:00 / 13:15\n• 🇦🇺 Sydney: 14:30 / 15:00 / 16:15 \n(You can switch time slots during the week) \n⸻ \n🕖 Duration: 25–60 minutes\n📍 Location: Online (Zoom)\n💰 Price: First 5 days free • Full program €89 \nSign up here \nhttps://meditatewithdhyan.com \nContact \nName: Dhyan Meinoud\nEmail: meinoud@gmail.com\nWhatsapp: +31630583939\nInstagram: http://instagram.com/dhyan_meinoud_rijnen \n⸻ \nAbout Organiser \nDhyan is a meditation teacher and clarity coach helping busy professionals step out of overthinking and reconnect with clarity\, calm\, and direction. \nWith 20+ years of experience in meditation and retreats\, his approach is simple:\nnot forcing answers — but learning how to return to presence. \n  \n 
URL:https://mindbodism.com/event/21-day-morning-meditation-wherever-your-day-begins/2026-08-21/
CATEGORIES:Courses,Online Event
ATTACH;FMTTYPE=image/png:https://mindbodism.com/wp-content/uploads/2026/04/Untitled-design.png
END:VEVENT
BEGIN:VEVENT
DTSTART;TZID=Europe/Paris:20260822T063000
DTEND;TZID=Europe/Paris:20260826T093000
DTSTAMP:20260425T142249
CREATED:20260416T143226Z
LAST-MODIFIED:20260416T152438Z
UID:10000783-1787380200-1787736600@mindbodism.com
SUMMARY:21-Day Morning Meditation (Wherever Your Day Begins)
DESCRIPTION:21-Day Morning Meditation (Wherever Your Day Begins)\nStart your day with more calm\, clarity\, and focus — wherever you are in the world. \nSign up here \nhttps://meditatewithdhyan.com \nFrom May 4\, I’m guiding a new round of the 21-day live meditation program.\nYou can join the first 5 days for free (May 4–8) and experience it for yourself. \nFor some\, this is early morning.\nFor others\, it’s later in the day. \nWhat matters is this:\n=> a consistent moment to step out of your busy mind\n=> and start your day from a more grounded place \nThis is not about stopping your thoughts.\nIt’s about learning to relate to them differently. \nSimple. Practical. Grounded. \n📅 Date: May 4 – May 25\, 2026 \n🕖 Time (choose your daily start moment):\n• 🇳🇱 Amsterdam: 06:30 / 07:00 / 08:15\n• 🇪🇪 Tallinn: 07:30 / 08:00 / 09:15\n• 🇦🇪 Dubai: 08:30 / 09:00 / 10:15\n• 🇹🇭 Bangkok: 11:30 / 12:00 / 13:15\n• 🇦🇺 Sydney: 14:30 / 15:00 / 16:15 \n(You can switch time slots during the week) \n⸻ \n🕖 Duration: 25–60 minutes\n📍 Location: Online (Zoom)\n💰 Price: First 5 days free • Full program €89 \nSign up here \nhttps://meditatewithdhyan.com \nContact \nName: Dhyan Meinoud\nEmail: meinoud@gmail.com\nWhatsapp: +31630583939\nInstagram: http://instagram.com/dhyan_meinoud_rijnen \n⸻ \nAbout Organiser \nDhyan is a meditation teacher and clarity coach helping busy professionals step out of overthinking and reconnect with clarity\, calm\, and direction. \nWith 20+ years of experience in meditation and retreats\, his approach is simple:\nnot forcing answers — but learning how to return to presence. \n  \n 
URL:https://mindbodism.com/event/21-day-morning-meditation-wherever-your-day-begins/2026-08-22/
CATEGORIES:Courses,Online Event
ATTACH;FMTTYPE=image/png:https://mindbodism.com/wp-content/uploads/2026/04/Untitled-design.png
END:VEVENT
BEGIN:VEVENT
DTSTART;TZID=Europe/Paris:20260823T063000
DTEND;TZID=Europe/Paris:20260827T093000
DTSTAMP:20260425T142249
CREATED:20260416T143226Z
LAST-MODIFIED:20260416T152438Z
UID:10000784-1787466600-1787823000@mindbodism.com
SUMMARY:21-Day Morning Meditation (Wherever Your Day Begins)
DESCRIPTION:21-Day Morning Meditation (Wherever Your Day Begins)\nStart your day with more calm\, clarity\, and focus — wherever you are in the world. \nSign up here \nhttps://meditatewithdhyan.com \nFrom May 4\, I’m guiding a new round of the 21-day live meditation program.\nYou can join the first 5 days for free (May 4–8) and experience it for yourself. \nFor some\, this is early morning.\nFor others\, it’s later in the day. \nWhat matters is this:\n=> a consistent moment to step out of your busy mind\n=> and start your day from a more grounded place \nThis is not about stopping your thoughts.\nIt’s about learning to relate to them differently. \nSimple. Practical. Grounded. \n📅 Date: May 4 – May 25\, 2026 \n🕖 Time (choose your daily start moment):\n• 🇳🇱 Amsterdam: 06:30 / 07:00 / 08:15\n• 🇪🇪 Tallinn: 07:30 / 08:00 / 09:15\n• 🇦🇪 Dubai: 08:30 / 09:00 / 10:15\n• 🇹🇭 Bangkok: 11:30 / 12:00 / 13:15\n• 🇦🇺 Sydney: 14:30 / 15:00 / 16:15 \n(You can switch time slots during the week) \n⸻ \n🕖 Duration: 25–60 minutes\n📍 Location: Online (Zoom)\n💰 Price: First 5 days free • Full program €89 \nSign up here \nhttps://meditatewithdhyan.com \nContact \nName: Dhyan Meinoud\nEmail: meinoud@gmail.com\nWhatsapp: +31630583939\nInstagram: http://instagram.com/dhyan_meinoud_rijnen \n⸻ \nAbout Organiser \nDhyan is a meditation teacher and clarity coach helping busy professionals step out of overthinking and reconnect with clarity\, calm\, and direction. \nWith 20+ years of experience in meditation and retreats\, his approach is simple:\nnot forcing answers — but learning how to return to presence. \n  \n 
URL:https://mindbodism.com/event/21-day-morning-meditation-wherever-your-day-begins/2026-08-23/
CATEGORIES:Courses,Online Event
ATTACH;FMTTYPE=image/png:https://mindbodism.com/wp-content/uploads/2026/04/Untitled-design.png
END:VEVENT
END:VCALENDAR