BEGIN:VCALENDAR
VERSION:2.0
PRODID:-//Mindbodism - ECPv6.15.14//NONSGML v1.0//EN
CALSCALE:GREGORIAN
METHOD:PUBLISH
X-WR-CALNAME:Mindbodism
X-ORIGINAL-URL:https://mindbodism.com
X-WR-CALDESC:Events for Mindbodism
REFRESH-INTERVAL;VALUE=DURATION:PT1H
X-Robots-Tag:noindex
X-PUBLISHED-TTL:PT1H
BEGIN:VTIMEZONE
TZID:America/Los_Angeles
BEGIN:DAYLIGHT
TZOFFSETFROM:-0800
TZOFFSETTO:-0700
TZNAME:PDT
DTSTART:20240310T100000
END:DAYLIGHT
BEGIN:STANDARD
TZOFFSETFROM:-0700
TZOFFSETTO:-0800
TZNAME:PST
DTSTART:20241103T090000
END:STANDARD
BEGIN:DAYLIGHT
TZOFFSETFROM:-0800
TZOFFSETTO:-0700
TZNAME:PDT
DTSTART:20250309T100000
END:DAYLIGHT
BEGIN:STANDARD
TZOFFSETFROM:-0700
TZOFFSETTO:-0800
TZNAME:PST
DTSTART:20251102T090000
END:STANDARD
BEGIN:DAYLIGHT
TZOFFSETFROM:-0800
TZOFFSETTO:-0700
TZNAME:PDT
DTSTART:20260308T100000
END:DAYLIGHT
BEGIN:STANDARD
TZOFFSETFROM:-0700
TZOFFSETTO:-0800
TZNAME:PST
DTSTART:20261101T090000
END:STANDARD
END:VTIMEZONE
BEGIN:VTIMEZONE
TZID:Europe/London
BEGIN:DAYLIGHT
TZOFFSETFROM:+0000
TZOFFSETTO:+0100
TZNAME:BST
DTSTART:20240331T010000
END:DAYLIGHT
BEGIN:STANDARD
TZOFFSETFROM:+0100
TZOFFSETTO:+0000
TZNAME:GMT
DTSTART:20241027T010000
END:STANDARD
BEGIN:DAYLIGHT
TZOFFSETFROM:+0000
TZOFFSETTO:+0100
TZNAME:BST
DTSTART:20250330T010000
END:DAYLIGHT
BEGIN:STANDARD
TZOFFSETFROM:+0100
TZOFFSETTO:+0000
TZNAME:GMT
DTSTART:20251026T010000
END:STANDARD
BEGIN:DAYLIGHT
TZOFFSETFROM:+0000
TZOFFSETTO:+0100
TZNAME:BST
DTSTART:20260329T010000
END:DAYLIGHT
BEGIN:STANDARD
TZOFFSETFROM:+0100
TZOFFSETTO:+0000
TZNAME:GMT
DTSTART:20261025T010000
END:STANDARD
END:VTIMEZONE
BEGIN:VTIMEZONE
TZID:Europe/Paris
BEGIN:DAYLIGHT
TZOFFSETFROM:+0100
TZOFFSETTO:+0200
TZNAME:CEST
DTSTART:20240331T010000
END:DAYLIGHT
BEGIN:STANDARD
TZOFFSETFROM:+0200
TZOFFSETTO:+0100
TZNAME:CET
DTSTART:20241027T010000
END:STANDARD
BEGIN:DAYLIGHT
TZOFFSETFROM:+0100
TZOFFSETTO:+0200
TZNAME:CEST
DTSTART:20250330T010000
END:DAYLIGHT
BEGIN:STANDARD
TZOFFSETFROM:+0200
TZOFFSETTO:+0100
TZNAME:CET
DTSTART:20251026T010000
END:STANDARD
BEGIN:DAYLIGHT
TZOFFSETFROM:+0100
TZOFFSETTO:+0200
TZNAME:CEST
DTSTART:20260329T010000
END:DAYLIGHT
BEGIN:STANDARD
TZOFFSETFROM:+0200
TZOFFSETTO:+0100
TZNAME:CET
DTSTART:20261025T010000
END:STANDARD
END:VTIMEZONE
BEGIN:VEVENT
DTSTART;TZID=America/Los_Angeles:20250917T110000
DTEND;TZID=America/Los_Angeles:20250917T120000
DTSTAMP:20260420T140639
CREATED:20250916T201444Z
LAST-MODIFIED:20250916T201444Z
UID:10000363-1758106800-1758110400@mindbodism.com
SUMMARY:UNLOCK YOUR GREATNESS NOW
DESCRIPTION:UNLOCK YOUR GREATNESS NOW\nI am so excited to see amazing leaders like Brendon Burchard and Lewis Howes joining forces to launch a powerful new Mastermind! 💥 \nTomorrow\, Wednesday\, September 17 at 11:00 AM (Pacific)\, they’ll be hosting a free live training together called “UNLOCK YOUR GREATNESS NOW”\, and you’re invited! \nRSVP BELOW \n  \nDon’t miss this opportunity to learn from two of the most inspiring leaders in the personal growth space! 🚀 \nEduardo Robles\nYour Creative Energy Activator
URL:https://mindbodism.com/event/unlock-your-greatness-now/
CATEGORIES:*,In-Person Event
ATTACH;FMTTYPE=image/png:https://mindbodism.com/wp-content/uploads/2025/09/Screenshot-2025-09-16-at-21.14.08.png
END:VEVENT
BEGIN:VEVENT
DTSTART;TZID=Europe/London:20250920T130000
DTEND;TZID=Europe/London:20250920T150000
DTSTAMP:20260420T140639
CREATED:20250917T193523Z
LAST-MODIFIED:20250917T194513Z
UID:10000364-1758373200-1758380400@mindbodism.com
SUMMARY:3 in 1 Experience Mindset Reset  Breathwork Biohack
DESCRIPTION:3 in 1 Experience: Mindset Reset + Breathwork  +Biohack\n📅 *Date*: Saturday\, Sept 21 🕐 1:00 PM – 3:00 PM BST\n🕖 Time: 1:00 PM – 3:00 PM BST\n📍 Location: Holosophy Studio\, London\, 98 Tooley St\, London SE1 2TH\n💰Price: £33 per ticket \n👉RSVP HERE: \n  \nDescription \nUnlock £120+ of Transformation for Just £33 | Rewire Your Mind\, Biohack Your Body\, Awaken Your Spirit\n📍 Holosophy Studio\, London | 🗓 Saturday\, Sept 21 🕐 1:00 PM – 3:00 PM BST\n🎟️ Only 15 Spots | £33 per ticket \nYou don’t need more time. You need a mindset reset. \nWhat if you could rewire your thinking\, reset your nervous system\, and biohack your performance—in just 2 hours? \nThis isn’t just another mindset event. It’s a full-body\, full-focus activation that combines strategy\, science\, and state-shifting breathwork so you can end the year strong—and start 2026 unstoppable. \nThe year isn’t over. Your next bold move starts now.\nThis is your personal reset button.\nA 2-hour high-performance experience designed to help you: \n✅ Clarify your boldest goals\n✅ Break through subconscious resistance\n✅ Embody the energy of the version of you who already wins \nWhether you’re an entrepreneur\, leader\, or growth-minded visionary\, this is your moment to align your inner world with your outer ambitions—and do it from a deeply embodied state. \n🧠 BREATH | MIND | BIOHACK — THE FULL TRANSFORMATION \n🧭 1:00 PM – 2:00 PM | MOONSHOT MINDSET RESET\nA condensed\, high-impact version of Francis Piché’s signature workshop to:\n• Rewire your subconscious patterns\n• Install the neuroscience of goal achievement\n• Activate the mindset required for quantum success \n💨 2:00 PM – 3:00 PM | SOMA BREATHWORK SESSION\nA powerful 60-minute breathwork journey to:\n• Regulate your nervous system\n• Integrate your intention at the cellular level\n• Feel energized\, clear\, and emotionally free \nYou won’t just “learn” it. You’ll embody it. \n💎 OVER £120 IN TOTAL VALUE — INCLUDED FOR JUST £33 \nWith your ticket\, you’ll receive over £120+ worth of transformational tools and experiences\, including: \n🧠 Moonshot Mindset Reset Workshop (£55 value) – Break mental barriers\, clarify your boldest goal\, and activate a new identity\n💨 SOMA Breathwork Journey (£33 value) – Rewire your nervous system and embody calm\, clarity\, and courage\n🌈 Red Light Therapy Session (£38 value) – Recharge your body and boost performance on a cellular level\n☕ Adaptogen Coffee + Elixirs – Smooth\, focused energy without the crash\n💧 Hydrogen-Rich Water – Deep cellular hydration for clarity and high performance \n🎯 All for just £33. Step into your future with power\, presence\, and precision. \nAll included. All designed to help you feel your future self—today. \n🎤 MEET FRANCIS PICHÉ \nFrancis is a Mindset Alchemist\, Executive Coach\, and SOMA Breathwork Instructor\, known for helping entrepreneurs and high-performers reset their inner source code to achieve extraordinary outcomes. \nHe’s the creator of the Resilience Element Formula and the Moonshot Mindset Reset framework\, and a certified consultant of Thinking Into Results. With clients around the world\, Francis is your guide to clarity\, conviction\, and embodied success.
URL:https://mindbodism.com/event/3-in-1-experience-mindset-reset-breathwork-biohack/
CATEGORIES:*,In-Person Event
ATTACH;FMTTYPE=image/jpeg:https://mindbodism.com/wp-content/uploads/2025/09/04f9a053-c9d9-4404-82d4-0a36c2920a78.jpg
END:VEVENT
BEGIN:VEVENT
DTSTART;TZID=Europe/London:20250921T163000
DTEND;TZID=Europe/London:20250921T180000
DTSTAMP:20260420T140639
CREATED:20250916T194433Z
LAST-MODIFIED:20250917T101821Z
UID:10000362-1758472200-1758477600@mindbodism.com
SUMMARY:Integrate and Connect Embodying Your MVU Experience
DESCRIPTION:✨*Integrate & Connect: Embodying Your MVU Experience*✨\n*Date*: Sunday\, Sept 21st \n*Time*: 8:30-10 am PT/ 11:30 am-1 pm ET/ 4:30-6 pm UK \n*Location*: Live Group Call On Zoom \n*Price*: FREE \n*RSVP BELOW to confirm your spot* \n  \n*Description*\n \n✨After 2 transformative weeks at MVU\, join us for a heart-centered online gathering to recharge\, integrate your breakthroughs\, and anchor the insights you want to carry forward. \n✨Experience guided practices that uplift your energy\, uncover your aligned next chapter\, and deepen your embodiment—tools you can bring into your life\, work\, and relationships. \n✨This call will help you gain deep clarity on your next steps in the evolution of your work and offerings. \n✨You’ll leave feeling grounded in your purpose\, nourished by community\, and resourced for the exciting chapter ahead.✨ \nWith Love\, \nPrema Gaia 🌷
URL:https://mindbodism.com/event/integrate-and-connect-embodying-your-mvu-experience-2/
CATEGORIES:In-Person Event
ATTACH;FMTTYPE=image/jpeg:https://mindbodism.com/wp-content/uploads/2025/09/Sunday-Sept-21-MVU-Call.jpeg
END:VEVENT
BEGIN:VEVENT
DTSTART;TZID=Europe/Paris:20250921T180000
DTEND;TZID=Europe/Paris:20250921T193000
DTSTAMP:20260420T140639
CREATED:20250919T012558Z
LAST-MODIFIED:20250919T012558Z
UID:10000365-1758477600-1758483000@mindbodism.com
SUMMARY:The Soul Journey Home Weekly Circle – Week 3: Remember Your Frequency
DESCRIPTION:The Soul Journey Home Weekly Circle – Week 3: Remember Your Frequency\n📅 Date: Sunday\, September 21\, 2025\n🕖 Time: 6:00–7:30 PM (CET)\n📍 Location: Online (Zoom)\n💰 Price: Donation-based \n👉 RSVP HERE: \nWho are you beneath the confusion\, roles\, and expectations? In this session\, we explore the idea that you are a frequency — already whole\, already encoded with purpose. Through visualization and archetypal reflection\, you’ll reconnect with your Soul Self and reclaim your inner clarity. \n  \n🧡 TUSCANY RETREAT\n\nLove for Life & Purpose\nA 7-Day Immersion into Soul Embodiment\, Clarity & Sacred Activation\n📅 Date: October 4–10\, 2025\n🕖 Time: Begins 12:00 PM Oct 4 – Ends 12:00 PM Oct 10\n📍 Location: Tuscany\, Italy (Retreat center + Sacred Site Pilgrimage)\n💰 Price: [Insert price or tiered pricing here] \n👉 RSVP HERE:\nhttps://nas.io/next-evolution/events/love-for-life-a-5-day-retreat \nThis is a deep and joyful initiation into who you truly are. Through 4.5 days at a beautiful retreat center (embodiment\, breath\, ceremony\, inner work) and 2 days of sacred site pilgrimage (Siena\, Pitigliano\, Città del Tufo)\, we will journey from fear to clarity\, from suppression to remembrance\, from fragmentation to sacred union — and return to the joy of being alive. \nYou’ll reconnect with your soul frequency\, release old patterns\, and activate your next evolution — all while held in a loving circle of kindred spirits. \n⸻ \n📞 Contact \nName: David Lamka\nEmail: info@davidlamka.com \n⸻ \n👁 About the Organiser \n✨ David Lamka is a transformational guide\, retreat leader\, and the creator of EvolutionFlow — a methodology that combines movement\, breathwork\, sacred archetypes\, and deep presence to awaken the soul and activate purpose. \nWith over 20 years of experience\, he has led retreats and circles around the world\, from the Andes to the Aegean\, guiding thousands of leaders\, seekers\, and healers into deeper alignment with their truth. \nDavid is the founder of the Next Evolution Podcast and the online community My Next Evolution. His work is grounded in love\, embodiment\, and the remembrance that we are all creators of our life experience.
URL:https://mindbodism.com/event/the-soul-journey-home-weekly-circle-week-3-remember-your-frequency/
CATEGORIES:*,In-Person Event
ATTACH;FMTTYPE=image/jpeg:https://mindbodism.com/wp-content/uploads/2025/09/aeb2f22b-a94d-4645-8225-87f54a58bc58.jpg
END:VEVENT
END:VCALENDAR