BEGIN:VCALENDAR
VERSION:2.0
PRODID:-//Mindbodism - ECPv6.15.14//NONSGML v1.0//EN
CALSCALE:GREGORIAN
METHOD:PUBLISH
X-WR-CALNAME:Mindbodism
X-ORIGINAL-URL:https://mindbodism.com
X-WR-CALDESC:Events for Mindbodism
REFRESH-INTERVAL;VALUE=DURATION:PT1H
X-Robots-Tag:noindex
X-PUBLISHED-TTL:PT1H
BEGIN:VTIMEZONE
TZID:Europe/London
BEGIN:DAYLIGHT
TZOFFSETFROM:+0000
TZOFFSETTO:+0100
TZNAME:BST
DTSTART:20240331T010000
END:DAYLIGHT
BEGIN:STANDARD
TZOFFSETFROM:+0100
TZOFFSETTO:+0000
TZNAME:GMT
DTSTART:20241027T010000
END:STANDARD
BEGIN:DAYLIGHT
TZOFFSETFROM:+0000
TZOFFSETTO:+0100
TZNAME:BST
DTSTART:20250330T010000
END:DAYLIGHT
BEGIN:STANDARD
TZOFFSETFROM:+0100
TZOFFSETTO:+0000
TZNAME:GMT
DTSTART:20251026T010000
END:STANDARD
BEGIN:DAYLIGHT
TZOFFSETFROM:+0000
TZOFFSETTO:+0100
TZNAME:BST
DTSTART:20260329T010000
END:DAYLIGHT
BEGIN:STANDARD
TZOFFSETFROM:+0100
TZOFFSETTO:+0000
TZNAME:GMT
DTSTART:20261025T010000
END:STANDARD
END:VTIMEZONE
BEGIN:VTIMEZONE
TZID:Asia/Jakarta
BEGIN:STANDARD
TZOFFSETFROM:+0700
TZOFFSETTO:+0700
TZNAME:WIB
DTSTART:20240101T000000
END:STANDARD
END:VTIMEZONE
BEGIN:VEVENT
DTSTART;TZID=Europe/London:20251005T170000
DTEND;TZID=Europe/London:20251005T180000
DTSTAMP:20260423T165006
CREATED:20251004T085245Z
LAST-MODIFIED:20251006T155754Z
UID:10000390-1759683600-1759687200@mindbodism.com
SUMMARY:Monthly Community Connection & Impact Circle
DESCRIPTION:✨ Monthly Community Connection & Impact CircleStories\, Strategy & Support to Elevate Lives — Together \n🌍 You’re invited to a global gathering of changemakers. \nThis isn’t just a call — it’s a movement.A sacred space where visionary souls unite to connect\, share\, and co-create impact through love and alignment. \n\n🗓 WHEN:05 October⏰ 17:00 London | 20:00 Dubai | 09:00 Los Angeles | 23:00 Bali \n🔗 RSVP Here:https://mindbodism.com/event/monthly-community-connection-impact-circle/ \n\n✨ What’s Inside: \n🔗 Heart-Centered NetworkingConnect with purpose-driven souls from around the world — coaches\, healers\, and conscious creators who are walking the same path of growth and service. \n📖 Stories of TransformationListen to real stories of impact and breakthrough — proof that one person’s courage can ripple into thousands of lives. \n🎯 Aligned ActionStay updated on our collective milestones and receive practical weekly actions you can take to contribute to the mission. \n🤝 The Support CircleWhether you need guidance or want to give back — this space allows you to offer and receive from the heart. No judgment. Just love. \n📈 Milestone TrackingCelebrate progress together as we move closer to our shared goal of impacting 1 billion lives by 30 November 2030. \n\n🌍 Mission StatementTo transform the lives of 1 billion people by 30 November 2030 — by empowering conscious leaders\, creators\, and guides to expand their impact through aligned strategies\, community support\, and scalable systems rooted in LOVE. \n\nYou don’t need to have everything figured out.Just show up — with an open heart and willingness to grow. \nThis is more than a community.It’s your extended family. 💫You belong here. \nWith love and gratitude\,Alexis Zen \n 
URL:https://mindbodism.com/event/monthly-community-connection-impact-circle-2/
CATEGORIES:*,Online Event
ATTACH;FMTTYPE=image/png:https://mindbodism.com/wp-content/uploads/2025/05/Flyer-impact-1-billion-people-event.png
ORGANIZER;CN="Mindbodism":MAILTO:hello@mindbodism.com
END:VEVENT
BEGIN:VEVENT
DTSTART;TZID=Asia/Jakarta:20251005T180000
DTEND;TZID=Asia/Jakarta:20251005T210000
DTSTAMP:20260423T165006
CREATED:20250923T112952Z
LAST-MODIFIED:20251006T155742Z
UID:10000371-1759687200-1759698000@mindbodism.com
SUMMARY:FREE 2-DAY MASTERCLASS: The Lost Art of Being Human
DESCRIPTION:✨ FREE 2-DAY MASTERCLASS: The Lost Art of Being Human✨\n📅 *Date*: 5/6 October\n🕖 *Time*: 6 to 9pm Bali time\n📍 *Location*: online\n💰*Price*: FREE \n*Description*\nIt’s a chance to reconnecting to true\, heart-centered community and exploring breathwork\, cold bath and authentic connection practices\, from home! \n*Contact*\nName Alexandre Tsuk \nAbout Alexandre:\nBorn in France\, now rooted between Bali and India\, I’m on a mission to ignite transformation. I believe in the power of simple\, natural tools—like breath\, cold\, and community — to help us heal and come home to ourselves. \nMy own path began with struggle—facing depression led me to discover the life-changing potential of Breathwork\, Authentic Relating\, Conscious Movement and cold exposure. These tools became my medicine… and then my mission. \nToday\, I guide the BreathingCold Experience to empower others to release stuck emotions\, integrate their wounded parts\, awaken their truth\, and live fully—with clarity\, purpose\, and joy. \nWhen we change our relationship with the breath\, we shift our relationship with ourselves. And that shift ripples into how we show up in the world—with others\, and with Mother Earth. \nBeyond the breath\, I’m also the founder of BGreener\, a network of 200+ purpose-driven businesses in Indonesia\, and RefillMyBottle\, a movement to reduce plastic waste through mindful water consumption. \nIf you’re ready to explore the edge of your comfort zone—and meet the truth that lives beneath—I’m here to walk beside you. Through breathwork\, ice baths\, and heartful connection\, I invite you to come back to your body\, your voice\, and your power.
URL:https://mindbodism.com/event/free-2-day-masterclass-the-lost-art-of-being-human/
CATEGORIES:*,Online Event
ATTACH;FMTTYPE=image/jpeg:https://mindbodism.com/wp-content/uploads/2025/09/c548b01e-5201-4efe-b904-e690e77f7f94.jpg
END:VEVENT
END:VCALENDAR