BEGIN:VCALENDAR
VERSION:2.0
PRODID:-//Mindbodism - ECPv6.15.14//NONSGML v1.0//EN
CALSCALE:GREGORIAN
METHOD:PUBLISH
X-ORIGINAL-URL:https://mindbodism.com
X-WR-CALDESC:Events for Mindbodism
REFRESH-INTERVAL;VALUE=DURATION:PT1H
X-Robots-Tag:noindex
X-PUBLISHED-TTL:PT1H
BEGIN:VTIMEZONE
TZID:Europe/London
BEGIN:DAYLIGHT
TZOFFSETFROM:+0000
TZOFFSETTO:+0100
TZNAME:BST
DTSTART:20240331T010000
END:DAYLIGHT
BEGIN:STANDARD
TZOFFSETFROM:+0100
TZOFFSETTO:+0000
TZNAME:GMT
DTSTART:20241027T010000
END:STANDARD
BEGIN:DAYLIGHT
TZOFFSETFROM:+0000
TZOFFSETTO:+0100
TZNAME:BST
DTSTART:20250330T010000
END:DAYLIGHT
BEGIN:STANDARD
TZOFFSETFROM:+0100
TZOFFSETTO:+0000
TZNAME:GMT
DTSTART:20251026T010000
END:STANDARD
BEGIN:DAYLIGHT
TZOFFSETFROM:+0000
TZOFFSETTO:+0100
TZNAME:BST
DTSTART:20260329T010000
END:DAYLIGHT
BEGIN:STANDARD
TZOFFSETFROM:+0100
TZOFFSETTO:+0000
TZNAME:GMT
DTSTART:20261025T010000
END:STANDARD
END:VTIMEZONE
BEGIN:VTIMEZONE
TZID:Africa/Johannesburg
BEGIN:STANDARD
TZOFFSETFROM:+0200
TZOFFSETTO:+0200
TZNAME:SAST
DTSTART:20240101T000000
END:STANDARD
END:VTIMEZONE
BEGIN:VTIMEZONE
TZID:Asia/Tokyo
BEGIN:STANDARD
TZOFFSETFROM:+0900
TZOFFSETTO:+0900
TZNAME:JST
DTSTART:20240101T000000
END:STANDARD
END:VTIMEZONE
BEGIN:VTIMEZONE
TZID:America/Chicago
BEGIN:DAYLIGHT
TZOFFSETFROM:-0600
TZOFFSETTO:-0500
TZNAME:CDT
DTSTART:20240310T080000
END:DAYLIGHT
BEGIN:STANDARD
TZOFFSETFROM:-0500
TZOFFSETTO:-0600
TZNAME:CST
DTSTART:20241103T070000
END:STANDARD
BEGIN:DAYLIGHT
TZOFFSETFROM:-0600
TZOFFSETTO:-0500
TZNAME:CDT
DTSTART:20250309T080000
END:DAYLIGHT
BEGIN:STANDARD
TZOFFSETFROM:-0500
TZOFFSETTO:-0600
TZNAME:CST
DTSTART:20251102T070000
END:STANDARD
BEGIN:DAYLIGHT
TZOFFSETFROM:-0600
TZOFFSETTO:-0500
TZNAME:CDT
DTSTART:20260308T080000
END:DAYLIGHT
BEGIN:STANDARD
TZOFFSETFROM:-0500
TZOFFSETTO:-0600
TZNAME:CST
DTSTART:20261101T070000
END:STANDARD
END:VTIMEZONE
BEGIN:VEVENT
DTSTART;TZID=Europe/London:20251006T160000
DTEND;TZID=Europe/London:20251006T170000
DTSTAMP:20260423T131635
CREATED:20251006T140833Z
LAST-MODIFIED:20251006T155733Z
UID:10000391-1759766400-1759770000@mindbodism.com
SUMMARY:Is the FREE 5-Day Hack Your Brain Challenge for you?
DESCRIPTION:Discover the 5-Step Formula — backed by neuroscience-informed practices — to Reprogram Your Mind and Finally Break Free From the Patterns Holding You Back\n\n\n\nDoes this sound like you: \n\n\n\n\n\n\n\nYou keep saying you’ll start “tomorrow\,” but nothing changes.\nYou feel stuck in a loop of fear\, procrastination\, and low confidence.\nYou’re tired of making excuses\, but don’t know how to break the cycle.\nYou want to take action — start the business\, have the conversation\, change your life — but something keeps holding you back.\nYou’ve got big dreams… but a voice in your head keeps saying\,\n“Who do you think you are?”\n\n\n\n\n\n\n\nBy the end of this 5-day journey\, you’ll be making REAL\, TANGIBLE progress towards understanding your mental programming\, rewriting the stories keeping you stuck\, and installing new beliefs. \nIt’s time to take action with confidence—and become the person you were meant to be.
URL:https://mindbodism.com/event/is-the-free-5-day-hack-your-brain-challenge-for-you/
CATEGORIES:*,Online Event
ATTACH;FMTTYPE=image/png:https://mindbodism.com/wp-content/uploads/2025/10/Screenshot-2025-10-06-at-15.02.37.png
END:VEVENT
BEGIN:VEVENT
DTSTART;TZID=Africa/Johannesburg:20251006T190000
DTEND;TZID=Africa/Johannesburg:20251010T233000
DTSTAMP:20260423T131635
CREATED:20251002T222625Z
LAST-MODIFIED:20251006T155725Z
UID:10000388-1759777200-1760139000@mindbodism.com
SUMMARY:We Rise Together
DESCRIPTION:We Rise Together\n📅 Date: (October 6–10)\n🕖 Time: Starting October 6\, you’ll receive an email each morning with that day’s sessions. You’ll have 24 hours to watch them for free.\n📍 Location: On Line\n💰Price: FREE \nDescription 🌟  \nPuja Lepp\, Trauma Healing Expert\nHow to Recognise if Your Childhood Trauma is Affecting You as an Adult \nUncover the hidden imprints of childhood that may be shaping your relationships\, career\, and sense of self and learn how to release them for lasting freedom. \n🌟 Marci Shimoff\, #1 New York Times Bestselling Author of Happy for No Reason\nHow to Live in the Miracle Zone \nDiscover how to step into a flow state where synchronicities\, abundance\, and joy naturally align with your life. \n🌟 Shelly Lefkoe\, Co-Founder of The Lefkoe Institute\nCreating the Life You Deserve \n🌟Asia Lee\, TEDx Speaker\, #1 Amazon Bestselling Author of Infinite You\, and creator of the AAA™️ Method\, helping people reset from illusion back to love. \nContact\nName Asia Lee\nEmail: hello@getmindflow.ai\ninstagram: https://www.instagram.com/asialeemindflow/ \nAbout Organiser:  \nNunaisi Ma Founder of The Rise Method and The Rise Tribe\nHost of We Rise Together Summit \n 
URL:https://mindbodism.com/event/we-rise-together/
CATEGORIES:*,Online Event
ATTACH;FMTTYPE=image/jpeg:https://mindbodism.com/wp-content/uploads/2025/10/12278c87-11c4-409b-adf0-fe7fd0d4efa0.jpg
END:VEVENT
BEGIN:VEVENT
DTSTART;TZID=Europe/London:20251007T143000
DTEND;TZID=Europe/London:20251007T160000
DTSTAMP:20260423T131635
CREATED:20251007T124716Z
LAST-MODIFIED:20251007T124716Z
UID:10000394-1759847400-1759852800@mindbodism.com
SUMMARY:Wealth\, Education & Conscious Community
DESCRIPTION:*Wealth\, Education & Conscious Community*\n📅 *Date*: Tuesday Oct 7th. *Now\, in 50 minutes!!* \n🕖 *Time*: 14.30 London/ Los Angeles 6:30 AM\, Tulum 8:30 AM\, Switzerland 3:30 PM\, Bali 9:30 PM\n💰*Price*: FREE \n👉*RSVP HERE* \n*Description*\nHow to create wealth\, abundance and conscious community through education. ❤️ A beautiful opportunity to join a big network of conscious community while creating passive income. \n*Contact*\nName Rommy Gelly\ninstagram: @RommyGelly Https://www.instagram.com/rommygelly \nAbout Organiser\nI’m Rommy Gelly\, spiritual coach\, energy alchemist & conscious entrepreneur.\nAfter many years guiding people into healing\, awakening\, and abundance\, I’m now opening a new path to create wealth with purpose and community. 💫 \nSee you in 90 minutes FREE webinar
URL:https://mindbodism.com/event/wealth-education-conscious-community/
CATEGORIES:*,Online Event
ATTACH;FMTTYPE=image/jpeg:https://mindbodism.com/wp-content/uploads/2025/10/15916859-c7a9-4140-8ea0-282b6661ba6e.jpg
END:VEVENT
BEGIN:VEVENT
DTSTART;TZID=Europe/London:20251007T170000
DTEND;TZID=Europe/London:20251007T180000
DTSTAMP:20260423T131635
CREATED:20251002T183213Z
LAST-MODIFIED:20251006T155711Z
UID:10000387-1759856400-1759860000@mindbodism.com
SUMMARY:Becoming International as a Speaker – Virtual Gathering
DESCRIPTION:Becoming International as a Speaker – Virtual Gathering\n📅 Date: Tuesday\, October 7th\n🕖 Time: 5:00 PM London time/ 12:00 PM New York / 8.00 PM Dubai\n📍 Location: Online\n💰 Price: FREE \nDescription\nAre you an established speaker in your local market…\nand now feeling the call to go international? \nJoin us for an inspiring and strategic virtual gathering where growth-minded speakers come together to: \n✅ Share their biggest international goals \n✅ Discover practical strategies that actually work\n✅ Learn how to avoid costly trial and error\n✅ Exchange connections\, collaborations\, and ideas\n✅ Get clarity on how to get booked globally — faster \nYou’ll walk away with actionable insights\, new connections\, and renewed excitement about what’s possible when you’re not trying to do it all alone. \nThis isn’t a webinar. \nThis is a collaborative\, co-creative space designed to spark real progress and global expansion for speakers ready to bring their voice to international markets. \nIt’s not just about expanding your reach. \nIt’s about going together and finding the right people who can make the path faster and less costly.  \nAbout the Organizer\nThis event is hosted by Roland Tokko\, founder of Becoming International — a global movement supporting speakers and coaches to expand beyond borders through authentic connections\, strategic partnerships and decades of experience in the industry. \n\nRoland is also founder of Edu Akadeemia (Success Academy)\, one of the leading self & business development companies in Estonia\, with over 5% of the country’s population on their email list. \nHe’s organized some of the largest personal development events in Eastern Europe\, bringing world-class speakers like Robin Sharma\, Robert & Kim Kiyosaki\, Jack Canfield\, Eric Edmeades\, and Janet Attwood to our region. \nHe has built strong connections with international event organizers\, allowing him to land speaking engagements worldwide. \nFor the Becoming International project he partnered up with Janet Attwood – a New York Times bestselling author of The Passion Test and a key player in the international speaking industry. Her impact on the world’s most recognized transformational leaders is unparalleled.\n \n\nShe helped T. Harv Eker\, creator of the legendary Millionaire Mind book & program\, successfully enter the U.S. market.\nShe helped Ken Honda\, Japan’s best-selling personal development author (8M+ books sold)\, expand into international markets.\nRhonda Byrne\, creator of “The Secret\,” was one of Janet’s students before The Secret was released. Because Janet always supports her students\, she arranged 70% of the interviews Rhonda did for her ground-breaking film.
URL:https://mindbodism.com/event/becoming-international-as-a-speaker-virtual-gathering/
CATEGORIES:*,Online Event
ATTACH;FMTTYPE=image/png:https://mindbodism.com/wp-content/uploads/2025/10/Screenshot-2025-10-03-at-14.13.00.png
END:VEVENT
BEGIN:VEVENT
DTSTART;TZID=Asia/Tokyo:20251008T190000
DTEND;TZID=Asia/Tokyo:20251008T200000
DTSTAMP:20260423T131635
CREATED:20250929T170559Z
LAST-MODIFIED:20251006T155655Z
UID:10000386-1759950000-1759953600@mindbodism.com
SUMMARY:Relationships Abroad: The Campfire
DESCRIPTION:✨ *Relationships Abroad: The Campfire* ✨\n📅 *Date*: Wed\, Oct 8\n🕖 *Time*: 19:00 JST (Japan)\n📍 *Location*: online\n💰*Price*: FREE \n👉*RSVP HERE*  \n  \n*Description*\nA space to relax\, chat or just listen\, share your experiences and connect with community around relationships abroad (work\, social\, personal). \n*Contact*\nAlex Feldman \nAbout Organiser:  \nAlex is the founder of Relationships Abroad\, supporting people in all aspects of cross-cultural relationships and life in general. He is a scientist\, coach\, philanthropist and genie based in Fukuoka\, Japan.
URL:https://mindbodism.com/event/relationships-abroad-the-campfire/
CATEGORIES:*,Online Event
ATTACH;FMTTYPE=image/png:https://mindbodism.com/wp-content/uploads/2025/09/2013A405-3108-4606-8935-D33C9A6B99F3.png
END:VEVENT
BEGIN:VEVENT
DTSTART;TZID=America/Chicago:20251009T130000
DTEND;TZID=America/Chicago:20251009T143000
DTSTAMP:20260423T131635
CREATED:20250929T130652Z
LAST-MODIFIED:20251006T155627Z
UID:10000382-1760014800-1760020200@mindbodism.com
SUMMARY:The Way of Qigong for Couples
DESCRIPTION:The Way of Qigong for Couples\n📅 Date: October 9th – December 18th\n🕖 Time: Thurssdays 1:00 PM Central Standard Time (Chicago\, USA)\n📍 Location: Online ZOOM\n💰Price: $1200 \n🌿 The Way of Qigong for Couples\nOnline via Zoom — Begins October 9\nWe fall in love—it’s exciting\, passionate\, and full of possibility. But if we keep falling\, we eventually crash. To truly last\, love must rise. \nThe Way of Qigong for Couples is a 10-week journey where ancient wisdom meets contemporary practice. Qigong is our foundation\, but we go beyond energy movement into practical tools for coupleship—tools that help you: \n✨ Cultivate Deep Connection that heals old wounds and builds trust\n✨ Practice Pure Communication that clears away misunderstanding and restores clarity\n✨ Awaken Blissful Intimacy rooted in vitality\, respect\, and desire\n✨ Step into a Powerful Partnership where two whole people create something greater together\nThis is not therapy. It’s not theory. It’s embodied practice—accessible\, profound\, and immediately useful in your daily life.\nWe draw on the timeless wisdom of Qigong and Esoteric philosophy\, while weaving in contemporary relationship practices that bring real results in modern life. Week by week\, you’ll practice side-by-side with your beloved\, learning how to listen differently\, move energy together\, and tend not just to “me” and “you\,” but to the sacred “us.” \nThe result? A love that doesn’t just survive—but thrives. A relationship that becomes your greatest source of joy\, resilience\, and legacy. \nBecause when couples rise\, children flourish. Families flourish. The future flourishes. \nBegins October 9 — Live on Zoom\nJoin us\, and rise in love.
URL:https://mindbodism.com/event/the-way-of-qigong-for-couples/
CATEGORIES:*,Online Event
ATTACH;FMTTYPE=image/png:https://mindbodism.com/wp-content/uploads/2025/09/Screenshot-2025-09-29-at-14.06.12.png
END:VEVENT
BEGIN:VEVENT
DTSTART;TZID=Europe/London:20251009T170000
DTEND;TZID=Europe/London:20251009T180000
DTSTAMP:20260423T131635
CREATED:20251007T094512Z
LAST-MODIFIED:20251007T095711Z
UID:10000393-1760029200-1760032800@mindbodism.com
SUMMARY:The WhatsApp Business Challenge: Turn Conversations into Growth\, Connection\, and Impact
DESCRIPTION:🌍 The WhatsApp Business Challenge: Turn Conversations into Growth\, Connection\, and Impact\n\n💬 Event Description\nWhat if your WhatsApp became more than just a chat app — but a growth engine for your business\, community\, or movement? \nIn this interactive 60-minute challenge-style webinar\, you’ll discover how to transform WhatsApp into a professional hub for connection\, sales\, and impact. Whether you’re a coach\, healer\, entrepreneur\, or community leader\, you’ll walk away with practical tools and step-by-step strategies to grow faster — using what you already have in your pocket. \nDATE: Thursday 9 October 2025 \n🌍 17:00 London | 12:00 New York | 09:00 Los Angeles | 20:00 Dubai | 00:00 Bali (next day) \nBy the end\, you’ll know how to:✅ Build meaningful relationships and automate responses using WhatsApp Business features✅ Organize your contacts and messages like a CRM (no expensive software needed!)✅ Set up a WhatsApp Catalog to showcase your offers\, events\, and free resources✅ Create broadcast lists and groups that actually engage — not spam \n✅ Live Implementation Challenge to get things done! \nThis challenge isn’t just about tools — it’s about transformation. You’ll implement as you learn and leave with your new WhatsApp Business ready to work for you 24/7. \nAbout Organiser \nAlexis Zen Founder of Mindbodism. Helping people and businesses transform—with a mission to impact 1 billion lives by 30 November 2030 but not alone\, with you.✨\nA USA TODAY Bestselling author\, Fortune 500 Consultant\, TEDx speaker\, holistic transformation and business coach and entrepreneur Alexis Zen has spent over 25 years helping people and organizations transform so they can reach their highest potential\, faster. His unique approach blends mindset\, performance and executive strategy with ancient wisdom\, to create powerful shifts in performance and presence. Featured in Brainz Magazine.
URL:https://mindbodism.com/event/the-whatsapp-business-challenge-turn-conversations-into-growth-connection-and-impact/
CATEGORIES:*,Online Event
ATTACH;FMTTYPE=image/png:https://mindbodism.com/wp-content/uploads/2025/10/Screenshot-2025-10-07-at-10.37.50.png
END:VEVENT
END:VCALENDAR