BEGIN:VCALENDAR
VERSION:2.0
PRODID:-//Mindbodism - ECPv6.15.14//NONSGML v1.0//EN
CALSCALE:GREGORIAN
METHOD:PUBLISH
X-ORIGINAL-URL:https://mindbodism.com
X-WR-CALDESC:Events for Mindbodism
REFRESH-INTERVAL;VALUE=DURATION:PT1H
X-Robots-Tag:noindex
X-PUBLISHED-TTL:PT1H
BEGIN:VTIMEZONE
TZID:Asia/Jakarta
BEGIN:STANDARD
TZOFFSETFROM:+0700
TZOFFSETTO:+0700
TZNAME:WIB
DTSTART:20240101T000000
END:STANDARD
END:VTIMEZONE
BEGIN:VTIMEZONE
TZID:Europe/London
BEGIN:DAYLIGHT
TZOFFSETFROM:+0000
TZOFFSETTO:+0100
TZNAME:BST
DTSTART:20240331T010000
END:DAYLIGHT
BEGIN:STANDARD
TZOFFSETFROM:+0100
TZOFFSETTO:+0000
TZNAME:GMT
DTSTART:20241027T010000
END:STANDARD
BEGIN:DAYLIGHT
TZOFFSETFROM:+0000
TZOFFSETTO:+0100
TZNAME:BST
DTSTART:20250330T010000
END:DAYLIGHT
BEGIN:STANDARD
TZOFFSETFROM:+0100
TZOFFSETTO:+0000
TZNAME:GMT
DTSTART:20251026T010000
END:STANDARD
BEGIN:DAYLIGHT
TZOFFSETFROM:+0000
TZOFFSETTO:+0100
TZNAME:BST
DTSTART:20260329T010000
END:DAYLIGHT
BEGIN:STANDARD
TZOFFSETFROM:+0100
TZOFFSETTO:+0000
TZNAME:GMT
DTSTART:20261025T010000
END:STANDARD
END:VTIMEZONE
BEGIN:VTIMEZONE
TZID:America/New_York
BEGIN:DAYLIGHT
TZOFFSETFROM:-0500
TZOFFSETTO:-0400
TZNAME:EDT
DTSTART:20240310T070000
END:DAYLIGHT
BEGIN:STANDARD
TZOFFSETFROM:-0400
TZOFFSETTO:-0500
TZNAME:EST
DTSTART:20241103T060000
END:STANDARD
BEGIN:DAYLIGHT
TZOFFSETFROM:-0500
TZOFFSETTO:-0400
TZNAME:EDT
DTSTART:20250309T070000
END:DAYLIGHT
BEGIN:STANDARD
TZOFFSETFROM:-0400
TZOFFSETTO:-0500
TZNAME:EST
DTSTART:20251102T060000
END:STANDARD
BEGIN:DAYLIGHT
TZOFFSETFROM:-0500
TZOFFSETTO:-0400
TZNAME:EDT
DTSTART:20260308T070000
END:DAYLIGHT
BEGIN:STANDARD
TZOFFSETFROM:-0400
TZOFFSETTO:-0500
TZNAME:EST
DTSTART:20261101T060000
END:STANDARD
END:VTIMEZONE
BEGIN:VTIMEZONE
TZID:Europe/Paris
BEGIN:DAYLIGHT
TZOFFSETFROM:+0100
TZOFFSETTO:+0200
TZNAME:CEST
DTSTART:20240331T010000
END:DAYLIGHT
BEGIN:STANDARD
TZOFFSETFROM:+0200
TZOFFSETTO:+0100
TZNAME:CET
DTSTART:20241027T010000
END:STANDARD
BEGIN:DAYLIGHT
TZOFFSETFROM:+0100
TZOFFSETTO:+0200
TZNAME:CEST
DTSTART:20250330T010000
END:DAYLIGHT
BEGIN:STANDARD
TZOFFSETFROM:+0200
TZOFFSETTO:+0100
TZNAME:CET
DTSTART:20251026T010000
END:STANDARD
BEGIN:DAYLIGHT
TZOFFSETFROM:+0100
TZOFFSETTO:+0200
TZNAME:CEST
DTSTART:20260329T010000
END:DAYLIGHT
BEGIN:STANDARD
TZOFFSETFROM:+0200
TZOFFSETTO:+0100
TZNAME:CET
DTSTART:20261025T010000
END:STANDARD
END:VTIMEZONE
BEGIN:VEVENT
DTSTART;TZID=Asia/Jakarta:20251013T100000
DTEND;TZID=Asia/Jakarta:20251019T110000
DTSTAMP:20260423T165528
CREATED:20251008T193114Z
LAST-MODIFIED:20251011T144637Z
UID:10000396-1760349600-1760871600@mindbodism.com
SUMMARY:FREE 7-DAY RISE & SHINE CHALLENGE
DESCRIPTION:✨ *FREE 7-DAY RISE & SHINE CHALLENGE!*✨\n📅 *Start Date*: Oct 12th evening (Western Time) / Oct 13th morning (Eastern Time)\n🕖 *Time*: 10am (Bali) / 10pm (NYC) / 7pm (LA) / 4am (Europe)\n📍 *Location*: Link upon registration\n💰 *Price*: FREE \n*Description*\nThese times have been intense. You might feel lost\, broken\, like your motivation has disappeared. Maybe life feels upside down in your relationships\, health\, mindset\, or finances\, and you’re wondering how to rise again.\nThat’s exactly why I created this *7-Day Rise & Shine Challenge* — to help you reactivate your inner light\, reconnect to inspiration\, clarity\, abundance\, and rise with joy. \nEach day\, live with me\, you’ll receive powerful practices and energetic transmissions including:\n✨ Quantum practices\n✨ Breathflow\n✨ Energetic healing & alignment\n✨ Powerful activations & coaching\nThis program is proven! For over eight years\, I’ve supported many people worldwide in awakening\, healing\, and achieving extraordinary results.\nJoin us for seven transformative days to restore your clarity\, abundance\, health\, and joy — it’s time to rise again. Can’t join live? *You’ll still receive the replays!* \n*Contact*\n👑 Rommy Gelly \n📸 Instagram: @rommygelly \n*About the Organizer*\nRommy Gelly is a Quantum Healer\, Channel\, Breathwork Facilitator\, and 5D Mentor who has supported tens of thousands of people worldwide through energy work\, breathflow\, and consciousness expansion. \nHer teachings combine science\, spirituality\, and frequency to activate healing and transformation at the deepest level.
URL:https://mindbodism.com/event/free-7-day-rise-shine-challenge/
CATEGORIES:*,Online Event
ATTACH;FMTTYPE=image/jpeg:https://mindbodism.com/wp-content/uploads/2025/10/26705774-a9a0-45c6-951b-c01abd12d204-2.jpg
END:VEVENT
BEGIN:VEVENT
DTSTART;TZID=Europe/London:20251014T160000
DTEND;TZID=Europe/London:20251016T180000
DTSTAMP:20260423T165528
CREATED:20251015T095442Z
LAST-MODIFIED:20251015T095442Z
UID:10000411-1760457600-1760637600@mindbodism.com
SUMMARY:Break the Algorithm How to Get Seen\, Get Heard\, and Get Paid on Social with Brendan Kane
DESCRIPTION:Break the Algorithm\nHow to Get Seen\, Get Heard\, and Get Paid on Social\nDate: 14-16 October \nTime: 16.00 London\, 19.00 Dubai\, 11.00 New York\, 8.00 Los Angeles\, 23.00 Bali \nRSVP HERE \n  \nWHAT YOU WILL LEARN \n\nJoin Brendan Kane and the Hook Point team for 3 days of live\, no-fluff strategy. You’ll walk away with:\nThe 5-step system used to generate 60 billion views\nThe viral story format behind 28M-view client videos\nHow to grab attention in 3 seconds—and hold it\nWhy your content isn’t spreading (and how to fix it)\nDaily live Q&A to apply it to your brand\n\nPlus: you’ll be invited into our private community—free. \nMeet Brendan Kane—The Architect of Viral Success \n\n60+ Billion Views Generated: Brendan has cracked the code to capturing attention at scale.\nClients Include Industry Titans: From Taylor Swift to MTV\, Brendan’s strategies have transformed brands across the globe.\nBestselling Author: Learn from the mind behind One Million Followers\, Hook Point\, and The Guide to Going Viral.
URL:https://mindbodism.com/event/break-the-algorithm-how-to-get-seen-get-heard-and-get-paid-on-social-with-brendan-kane/
CATEGORIES:*,Online Event
ATTACH;FMTTYPE=image/png:https://mindbodism.com/wp-content/uploads/2025/10/Screenshot-2025-10-15-at-10.47.16.png
END:VEVENT
BEGIN:VEVENT
DTSTART;TZID=Europe/London:20251014T170000
DTEND;TZID=Europe/London:20251014T180000
DTSTAMP:20260423T165528
CREATED:20251014T140630Z
LAST-MODIFIED:20251014T141007Z
UID:10000405-1760461200-1760464800@mindbodism.com
SUMMARY:Behind the Magic: My Past  Year Unfiltered
DESCRIPTION:✨ *Behind the Magic: My Past Year Unfiltered* ✨\n📅 *Date*: Tuesday 14 October\n🕖 *Time*: 17.00 London\, 20.00 Dubai\, 12:00 New York\,\n📍 *Location*: Online\n💰*Price*:FREE \n*Description* \nJoin Regan in an online event to talk about her Past Year Unfiltered. \n*Contact*\nRegan Hillyer \nInstagram: @reganhillyer \n*About Organiser* \nWorld’s #1 Manifestation teacher
URL:https://mindbodism.com/event/behind-the-magic-my-past-year-unfiltered/
CATEGORIES:*,Online Event
ATTACH;FMTTYPE=image/jpeg:https://mindbodism.com/wp-content/uploads/2025/10/IMG_3168.jpg
END:VEVENT
BEGIN:VEVENT
DTSTART;TZID=America/New_York:20251015T100000
DTEND;TZID=America/New_York:20251021T120000
DTSTAMP:20260423T165528
CREATED:20251003T140128Z
LAST-MODIFIED:20251006T155612Z
UID:10000389-1760522400-1761048000@mindbodism.com
SUMMARY:EMBODY RADIANCE
DESCRIPTION:✨ *EMBODY RADIANCE* ✨\n📅 *Date:* October 15th – 21st\, 2025\n🕖 *Time:* 10:00am & 1:00pm EST (2 live session daily)\n📍 *Location:* Online via Zoom 💰 *Price:* FREE\n👉 *RSVP HERE:*\n  \n*Description:*\nEmbody Radiance is a FREE\, 5-day LIVE online experience guiding you to reconnect with your body’s intelligence and nature’s wisdom through daily embodiment practices and the transformative power of green medicine.\nOur mission is to create a community of women who remember that their bodies are sacred\, and that nature is medicine.\nYou’re one click away from your invitation into Embody Radiance — your exclusive pass to lasting vitality\, inner balance\, and deep self-connection. \n*About the Organizer*  \nDaniela Bronfenmajer – Herbalist | Ayurvedic Marma Therapist | Founder of Vitality Rising | Guiding women to restore balance\, energy\, and vitality through simple herbal wisdom\, embodiment practices\, and nature’s rhythms.
URL:https://mindbodism.com/event/embody-radiance/
CATEGORIES:*,Online Event
ATTACH;FMTTYPE=image/jpeg:https://mindbodism.com/wp-content/uploads/2025/10/be8bec06-c5b6-4192-ba59-b6aff40cfbf9.jpg
END:VEVENT
BEGIN:VEVENT
DTSTART;TZID=Europe/Paris:20251015T140000
DTEND;TZID=Europe/Paris:20251015T150000
DTSTAMP:20260423T165528
CREATED:20251014T185206Z
LAST-MODIFIED:20251015T113432Z
UID:10000406-1760536800-1760540400@mindbodism.com
SUMMARY:AWAKENING SACRED SEXUALITY & DEVOTIONAL LOVE
DESCRIPTION:✨ AWAKENING SACRED SEXUALITY & DEVOTIONAL LOVE ✨\nA 60-minute free online masterclass for women who are ready to manifest soulful love\, deepen intimacy\, and awaken their feminine vitality. \n📅 Date: 15 October\n🕖 Time: 20:00 Bali | 14:00 Europe (CET) | 08:00 USA (EST)\n📍 Location: Online (Zoom)\n💰 Price: Free \n👉 RSVP HERE: \n🌸 Description \nJoin this sacred virtual experience to reconnect with your body\, your sensual energy\, and the love your soul desires. \nThrough guided reflection\, Taoist meditation\, and embodied practice\, you will: \n💞 Awaken your feminine vitality and sacred sexuality\n💫 Release inner blocks that hold you back from love\n🌹 Learn to magnetize devotional love with pleasure and presence\n🔥 Feel whole\, radiant\, and alive in your body \nYou’ll also receive an invitation to continue your journey in the 90-Day Devotional Love Program\, for women ready to manifest their great romance and sacred union. \n💌 Contact Giavanna B. Blanche\nInstagram: https://www.instagram.com/the.love.monk \n🌺 About the Organiser \nGiavanna B. Blanche — known as The Love Monk — is a practitioner of Tantric and Taoist arts with over 17 years of experience guiding women into sacred love\, sensual aliveness\, and devotional union. She has led over 100 masterclasses and helped thousands of women awaken their feminine power and transform their relationships.
URL:https://mindbodism.com/event/awakening-sacred-sexuality-devotional-love/
CATEGORIES:*,Online Event
ATTACH;FMTTYPE=image/jpeg:https://mindbodism.com/wp-content/uploads/2025/10/bccf5415-1ef0-4243-b38f-d2eff87787b3.jpg
END:VEVENT
BEGIN:VEVENT
DTSTART;TZID=Europe/Paris:20251016T180000
DTEND;TZID=Europe/Paris:20251016T190000
DTSTAMP:20260423T165528
CREATED:20251013T155200Z
LAST-MODIFIED:20251013T160323Z
UID:10000400-1760637600-1760641200@mindbodism.com
SUMMARY:Return to your heart in a live\, science-based journey
DESCRIPTION:*Return to your heart in a live\, science-based journey.*\n*October 16\, 2025*\n*6pm CEST/ 12.00 New York / 8pm Dubai / 11 pm Bali / (45 minutes)*\n*Free on Zoom* \n⸻ \n*Description* \nWhat if your heart already knew?\nThis 45-minute session invites you into real-time regulation through the intelligence of your own heart. \nYou’ll learn a simple\, science-based HeartMath®️ tool — and experience what coherence truly feels like in your body.\nCome home\, and reconnect to the power that already lives within you. \n⸻ \n*Contact* \n*Return to Self by Aenya*\nInstagram: @returntoself.by.aenya \n⸻ \n*About the Organiser* \nAenya is a certified HeartMath®️ Trainer and space holder — weaving science\, resonance and remembrance.\nHer work invites people into embodied clarity\, emotional coherence and heart-based living — a return to who they truly are.
URL:https://mindbodism.com/event/return-to-your-heart-in-a-live-science-based-journey/
CATEGORIES:*,Online Event
ATTACH;FMTTYPE=image/png:https://mindbodism.com/wp-content/uploads/2025/10/Screenshot-2025-10-13-at-16.46.51.png
END:VEVENT
BEGIN:VEVENT
DTSTART;TZID=Europe/London:20251016T190000
DTEND;TZID=Europe/London:20251016T210000
DTSTAMP:20260423T165528
CREATED:20251016T120057Z
LAST-MODIFIED:20251016T120057Z
UID:10000415-1760641200-1760648400@mindbodism.com
SUMMARY:The Resilience Advantage - A Heartmath Workshop
DESCRIPTION:The Resilience Advantage – A Heartmath Workshop\n📅 Date: Starting October 16th\n🕖 Time: Thursdays at London – 7pm\, New York – 2pm\n🕖 Duration: ~2 hours\, on Thursdays\n📍 Location: Zoom\n💰Price: $300 \n👉RSVP HERE:  \n  \nDescription\nThis workshop offers a blend of HeartMath’s science and simple\, practical techniques to help you connect with your heart\, build emotional resilience\, and create more coherence in daily life. Through weekly community calls\, guided practice\, and a live lecture day\, we explore how heart–brain connection influences our emotions\, physiology\, and overall well-being; all within a supportive group dedicated to genuine growth and self-discovery. \nContact\nName: Angel Kamenov\nEmail: senseiangelk@gmail.com\nPhone: +1 818 437 2559\nInstagram: https://www.instagram.com/angelk11.11/ \nAbout Organiser\nI’m Angel Kamenov\, a HeartMath coach devoted to helping people reconnect with their hearts and cultivate emotional balance from the inside out. My work blends science\, presence\, and compassion to create a space where real transformation can happen\, where we learn to move through life with more ease\, care\, and authenticity.
URL:https://mindbodism.com/event/the-resilience-advantage-a-heartmath-workshop/
CATEGORIES:*,Courses,Online Event
ATTACH;FMTTYPE=image/jpeg:https://mindbodism.com/wp-content/uploads/2025/10/3c35787f-0052-47ef-bcbc-1e6d145f0b7d.jpg
END:VEVENT
BEGIN:VEVENT
DTSTART;TZID=Europe/Paris:20251017T143200
DTEND;TZID=Europe/Paris:20251017T143500
DTSTAMP:20260423T165528
CREATED:20251017T132907Z
LAST-MODIFIED:20251017T183112Z
UID:10000417-1760711520-1760711700@mindbodism.com
SUMMARY:test 2
DESCRIPTION:
URL:https://mindbodism.com/event/test-2/
CATEGORIES:Online Event
ATTACH;FMTTYPE=image/png:https://mindbodism.com/wp-content/uploads/2025/10/Screenshot-2025-10-16-at-11.27.31.png
ORGANIZER;CN="Alexis Zen":MAILTO:alexis.fountzoulas@gmail.com
END:VEVENT
BEGIN:VEVENT
DTSTART;TZID=Europe/London:20251019T183000
DTEND;TZID=Europe/London:20251019T200000
DTSTAMP:20260423T165528
CREATED:20251015T154714Z
LAST-MODIFIED:20251015T154752Z
UID:10000412-1760898600-1760904000@mindbodism.com
SUMMARY:*Stop Comparing\, Start Thriving: 5 Steps to Build Unshakable Confidence* 
DESCRIPTION:*Stop Comparing\, Start Thriving: 5 Steps to Build Unshakable Confidence*\n\n *Date*: 19 October\n *Time*: 10:30pm LA | 1:30pm New York | 6:30pm London | 7:30pm Berlin\n *Location*: Online\n*Price*: Free\n\n*RSVP HERE* \n\n\n*Description*\nToo many of us secretly compare ourselves to others feeling we’ll never measure up. But what if I say comparison didn’t start at the physical level\, instead its from our limiting blocks and wounds that now shows up as comparison. Therefore\, at this event I won’t be telling you about boundaries or avoiding social media instead take on 5 powerful steps on how to be unshakable to avoid those sinking feelings of “I’m behind… I’m not enough… I should be further ahead by now…”.\n\n\n*Contact* \nName: Gagandeep Kaur\ninstagram: https://www.instagram.com/_kaurgagandeep_/\n\n*About Organiser*\nThis event is led by Gagandeep Kaur\, a coach and hypnotherapist specialising in taking back your Personal Power through the power of words\, healing\, and emotional well-being.
URL:https://mindbodism.com/event/stop-comparing-start-thriving-5-steps-to-build-unshakable-confidence/
CATEGORIES:*,Online Event
ATTACH;FMTTYPE=image/png:https://mindbodism.com/wp-content/uploads/2025/10/Screenshot-2025-10-15-at-16.45.07.png
END:VEVENT
END:VCALENDAR