BEGIN:VCALENDAR
VERSION:2.0
PRODID:-//Mindbodism - ECPv6.15.14//NONSGML v1.0//EN
CALSCALE:GREGORIAN
METHOD:PUBLISH
X-WR-CALNAME:Mindbodism
X-ORIGINAL-URL:https://mindbodism.com
X-WR-CALDESC:Events for Mindbodism
REFRESH-INTERVAL;VALUE=DURATION:PT1H
X-Robots-Tag:noindex
X-PUBLISHED-TTL:PT1H
BEGIN:VTIMEZONE
TZID:America/New_York
BEGIN:DAYLIGHT
TZOFFSETFROM:-0500
TZOFFSETTO:-0400
TZNAME:EDT
DTSTART:20240310T070000
END:DAYLIGHT
BEGIN:STANDARD
TZOFFSETFROM:-0400
TZOFFSETTO:-0500
TZNAME:EST
DTSTART:20241103T060000
END:STANDARD
BEGIN:DAYLIGHT
TZOFFSETFROM:-0500
TZOFFSETTO:-0400
TZNAME:EDT
DTSTART:20250309T070000
END:DAYLIGHT
BEGIN:STANDARD
TZOFFSETFROM:-0400
TZOFFSETTO:-0500
TZNAME:EST
DTSTART:20251102T060000
END:STANDARD
BEGIN:DAYLIGHT
TZOFFSETFROM:-0500
TZOFFSETTO:-0400
TZNAME:EDT
DTSTART:20260308T070000
END:DAYLIGHT
BEGIN:STANDARD
TZOFFSETFROM:-0400
TZOFFSETTO:-0500
TZNAME:EST
DTSTART:20261101T060000
END:STANDARD
END:VTIMEZONE
BEGIN:VTIMEZONE
TZID:Europe/London
BEGIN:DAYLIGHT
TZOFFSETFROM:+0000
TZOFFSETTO:+0100
TZNAME:BST
DTSTART:20240331T010000
END:DAYLIGHT
BEGIN:STANDARD
TZOFFSETFROM:+0100
TZOFFSETTO:+0000
TZNAME:GMT
DTSTART:20241027T010000
END:STANDARD
BEGIN:DAYLIGHT
TZOFFSETFROM:+0000
TZOFFSETTO:+0100
TZNAME:BST
DTSTART:20250330T010000
END:DAYLIGHT
BEGIN:STANDARD
TZOFFSETFROM:+0100
TZOFFSETTO:+0000
TZNAME:GMT
DTSTART:20251026T010000
END:STANDARD
BEGIN:DAYLIGHT
TZOFFSETFROM:+0000
TZOFFSETTO:+0100
TZNAME:BST
DTSTART:20260329T010000
END:DAYLIGHT
BEGIN:STANDARD
TZOFFSETFROM:+0100
TZOFFSETTO:+0000
TZNAME:GMT
DTSTART:20261025T010000
END:STANDARD
END:VTIMEZONE
BEGIN:VTIMEZONE
TZID:Australia/Sydney
BEGIN:STANDARD
TZOFFSETFROM:+1100
TZOFFSETTO:+1000
TZNAME:AEST
DTSTART:20240406T160000
END:STANDARD
BEGIN:DAYLIGHT
TZOFFSETFROM:+1000
TZOFFSETTO:+1100
TZNAME:AEDT
DTSTART:20241005T160000
END:DAYLIGHT
BEGIN:STANDARD
TZOFFSETFROM:+1100
TZOFFSETTO:+1000
TZNAME:AEST
DTSTART:20250405T160000
END:STANDARD
BEGIN:DAYLIGHT
TZOFFSETFROM:+1000
TZOFFSETTO:+1100
TZNAME:AEDT
DTSTART:20251004T160000
END:DAYLIGHT
BEGIN:STANDARD
TZOFFSETFROM:+1100
TZOFFSETTO:+1000
TZNAME:AEST
DTSTART:20260404T160000
END:STANDARD
BEGIN:DAYLIGHT
TZOFFSETFROM:+1000
TZOFFSETTO:+1100
TZNAME:AEDT
DTSTART:20261003T160000
END:DAYLIGHT
END:VTIMEZONE
BEGIN:VEVENT
DTSTART;TZID=America/New_York:20251015T100000
DTEND;TZID=America/New_York:20251021T120000
DTSTAMP:20260421T040420
CREATED:20251003T140128Z
LAST-MODIFIED:20251006T155612Z
UID:10000389-1760522400-1761048000@mindbodism.com
SUMMARY:EMBODY RADIANCE
DESCRIPTION:✨ *EMBODY RADIANCE* ✨\n📅 *Date:* October 15th – 21st\, 2025\n🕖 *Time:* 10:00am & 1:00pm EST (2 live session daily)\n📍 *Location:* Online via Zoom 💰 *Price:* FREE\n👉 *RSVP HERE:*\n  \n*Description:*\nEmbody Radiance is a FREE\, 5-day LIVE online experience guiding you to reconnect with your body’s intelligence and nature’s wisdom through daily embodiment practices and the transformative power of green medicine.\nOur mission is to create a community of women who remember that their bodies are sacred\, and that nature is medicine.\nYou’re one click away from your invitation into Embody Radiance — your exclusive pass to lasting vitality\, inner balance\, and deep self-connection. \n*About the Organizer*  \nDaniela Bronfenmajer – Herbalist | Ayurvedic Marma Therapist | Founder of Vitality Rising | Guiding women to restore balance\, energy\, and vitality through simple herbal wisdom\, embodiment practices\, and nature’s rhythms.
URL:https://mindbodism.com/event/embody-radiance/
CATEGORIES:*,Online Event
ATTACH;FMTTYPE=image/jpeg:https://mindbodism.com/wp-content/uploads/2025/10/be8bec06-c5b6-4192-ba59-b6aff40cfbf9.jpg
END:VEVENT
BEGIN:VEVENT
DTSTART;TZID=Europe/London:20251021T190000
DTEND;TZID=Europe/London:20251023T220000
DTSTAMP:20260421T040420
CREATED:20251015T075921Z
LAST-MODIFIED:20251015T080213Z
UID:10000408-1761073200-1761256800@mindbodism.com
SUMMARY:How business owners are getting AHEAD using AI. Free 3-day event
DESCRIPTION:How business owners are getting AHEAD using AI. Free 3-day event\n📅 *Date*: 21-23 October\n🕖 *Time*: 19.00 London\, 12.00 New York \, 00.00 Bali\, 21.00 Dubai\n📍 *Location*: Online\n💰*Price*: FREE \n👉*RSVP HERE* \nHow business owners are getting AHEAD using AI. Free 3-day event \n \n\nDay 1 \n\nDiscover the next ‘Blue Ocean Strategy’ for business owners by posting on LinkedIn\n\n\n\n\nLearn how to position yourself as a credible expert in your niche\n\n\n\n\nUnderstand how the smartest business owners are making leads reach out to THEM\, not the other way round\n\nDay 2 \n\n\nLeverage AI to 10x your output without posting ChatGPT slop\n\n\n\n\nSystemise your content creation process with the same methods I used to build multiple 7-figure businesses\n\n\n\n\nLearn the simple Authority Mechanism for consistent\, lead-generating content\n\nDay 3 \n\n\nMaster the art of plugging into demand that already exists\n\n\n\n\nOpen up new revenue streams for your business\, no matter the niche\n\n\n\n\nMonetise the following you create by posting expert-led content on LinkedIn
URL:https://mindbodism.com/event/how-business-owners-are-getting-ahead-using-ai-free-3-day-event/
CATEGORIES:*,Online Event
ATTACH;FMTTYPE=image/png:https://mindbodism.com/wp-content/uploads/2025/10/Screenshot-2025-10-15-at-08.58.22.png
END:VEVENT
BEGIN:VEVENT
DTSTART;TZID=Australia/Sydney:20251023T180000
DTEND;TZID=Australia/Sydney:20251023T200000
DTSTAMP:20260421T040421
CREATED:20251014T123513Z
LAST-MODIFIED:20251014T131833Z
UID:10000404-1761242400-1761249600@mindbodism.com
SUMMARY:Design your Destiny LIVE Q&A w/Dr John Demartini
DESCRIPTION:Design your Destiny LIVE Q&A w/Dr John Demartini + Free Networking!\n📅 Date: Thu\, 23 Oct 2025 \n🕖 Time: 6:00 PM – 8:00 PM AEDT (Sydney time) \n📍 Location: In-person or via Zoom\, you choose! \n💰Price: FREE [30 spots only for in-person] \nDescription \nWhat if you could design your destiny — not by chance\, but by choice? \nIf you were at MVU\, you would’ve saw Vishen announce they’re adding a new quest for Dr. John Demartini\, and guess what? You are invited to be in the room with him before anyone else!! \nOn October 23\, Karms Fung will be hosting Dr. John Demartini\, as featured in the film: The Secret\, a  global thought leader\, human behavior expert and author of The Values Factor is coming for an exclusive live Q&A streamed directly from the Australia. \nThis free hybrid event is your chance to:\n🔵 Discover your true hierarchy of values (and why they run your life)\n🔵 Reconnect your goals to what truly matters to you\n🔵 Network with likeminded people online or in person!! \nJoin us in person or via Zoom for a transformational evening designed to help you live and lead with purpose. \n🥂 After-Party: To keep the conversation flowing after the event\, we’ll head to Pumphose Sydney (just next door!) All is welcome\, come mingle\, connect and celebrate with fellow purpose-driven people. How you want the evening to go from here it’s up to you! 🙂 \nSpecial mention: A huge thank you to Novotel Sydney Darling Square for graciously hosting us and supporting the mission to help people live and lead with purpose. \nContact \nName: Karma Fung \nInstagram: https://www.instagram.com/karmsfung/ \nAbout Organiser \nKarms Fung is an international speaker and coach\, and founder of Excel Purpose. After a 15-year career as a CPA in Corporate accounting\, Karms walked away from the desk to pursue a mission: helping ambitious people break free from limitations\, activate effortless energy\, and create lives filled with freedom\, impact\, and purpose. \nShe is the creator of The Best Book Club Ever\, which has attracted global thought leaders including Lewis Howes\, Lisa Bilyeu\, Evan Carmichael\, and Dr. John Demartini. Her work combines mindset mastery\, storytelling\, and high-performance frameworks to empower people to step into their potential.
URL:https://mindbodism.com/event/design-your-destiny-live-qa-w-dr-john-demartini/
CATEGORIES:*,In-Person Event,Online Event
ATTACH;FMTTYPE=image/jpeg:https://mindbodism.com/wp-content/uploads/2025/10/ee803a6d-c96c-4905-b30e-d29bc8705c04.jpg
END:VEVENT
BEGIN:VEVENT
DTSTART;TZID=Europe/London:20251024T053000
DTEND;TZID=Europe/London:20251024T170000
DTSTAMP:20260421T040421
CREATED:20251023T103430Z
LAST-MODIFIED:20251023T103430Z
UID:10000419-1761283800-1761325200@mindbodism.com
SUMMARY:Speak so People Listen with Vinh
DESCRIPTION:SPEAK SO PEOPLE LISTEN with Vinh\n3 Powerful Techniques to help you: \n\nGain the respect and authority your deserve\nStart feeling like the social magnet everyone wants to talk to\nFree calm\, intelligent\, and prepared in any conversation\n\n\nFriday 24 October\n🌅 6:30 AM Paris = 5:30 AM London\, 12:30 AM New York\, 8:30 AM Dubai\, 12:30 PM Bali\, 9:30 PM Los Angeles (previous day) 🌍✨\n\nRSVP HERE
URL:https://mindbodism.com/event/speak-so-people-listen-with-vinh/
CATEGORIES:*,Online Event
ATTACH;FMTTYPE=image/png:https://mindbodism.com/wp-content/uploads/2025/10/Screenshot-2025-10-23-at-11.32.20.png
END:VEVENT
BEGIN:VEVENT
DTSTART;TZID=Europe/London:20251024T160000
DTEND;TZID=Europe/London:20251025T180000
DTSTAMP:20260421T040421
CREATED:20251023T111518Z
LAST-MODIFIED:20251023T111609Z
UID:10000421-1761321600-1761415200@mindbodism.com
SUMMARY:How to harness the power of AI to unlock limitless creativity and exponential productivity.
DESCRIPTION:How to harness the power of AI to unlock limitless creativity and exponential productivity.\nCutting-edge masterclass on AI innovation from Mindvalley’s curated experts. \n\n\nWhether it’s streamlining work\, scaling your business\, or amplifying your creative potential — discover how the latest AI tools can help you stay ahead of the curve and achieve breakthroughs faster than ever. \n24 or 25 October \nVarious timings \nRSVP HERE \n‘https://mindbodism.com/event/how-to-harness-the-power-of-ai-to-unlock-limitless-creativity-and-exponential-productivity/
URL:https://mindbodism.com/event/how-to-harness-the-power-of-ai-to-unlock-limitless-creativity-and-exponential-productivity/
CATEGORIES:*,Online Event
ATTACH;FMTTYPE=image/png:https://mindbodism.com/wp-content/uploads/2025/10/Screenshot-2025-10-23-at-12.14.13.png
END:VEVENT
END:VCALENDAR