BEGIN:VCALENDAR
VERSION:2.0
PRODID:-//Mindbodism - ECPv6.15.14//NONSGML v1.0//EN
CALSCALE:GREGORIAN
METHOD:PUBLISH
X-ORIGINAL-URL:https://mindbodism.com
X-WR-CALDESC:Events for Mindbodism
REFRESH-INTERVAL;VALUE=DURATION:PT1H
X-Robots-Tag:noindex
X-PUBLISHED-TTL:PT1H
BEGIN:VTIMEZONE
TZID:Europe/London
BEGIN:DAYLIGHT
TZOFFSETFROM:+0000
TZOFFSETTO:+0100
TZNAME:BST
DTSTART:20240331T010000
END:DAYLIGHT
BEGIN:STANDARD
TZOFFSETFROM:+0100
TZOFFSETTO:+0000
TZNAME:GMT
DTSTART:20241027T010000
END:STANDARD
BEGIN:DAYLIGHT
TZOFFSETFROM:+0000
TZOFFSETTO:+0100
TZNAME:BST
DTSTART:20250330T010000
END:DAYLIGHT
BEGIN:STANDARD
TZOFFSETFROM:+0100
TZOFFSETTO:+0000
TZNAME:GMT
DTSTART:20251026T010000
END:STANDARD
BEGIN:DAYLIGHT
TZOFFSETFROM:+0000
TZOFFSETTO:+0100
TZNAME:BST
DTSTART:20260329T010000
END:DAYLIGHT
BEGIN:STANDARD
TZOFFSETFROM:+0100
TZOFFSETTO:+0000
TZNAME:GMT
DTSTART:20261025T010000
END:STANDARD
END:VTIMEZONE
BEGIN:VEVENT
DTSTART;TZID=Europe/London:20251028T143000
DTEND;TZID=Europe/London:20251028T160000
DTSTAMP:20260421T072232
CREATED:20251028T110924Z
LAST-MODIFIED:20251028T110924Z
UID:10000426-1761661800-1761667200@mindbodism.com
SUMMARY:Grow Your Business the Holistic Way\, What’s Changed & What’s Next…
DESCRIPTION:Grow Your Business the Holistic Way\, What’s Changed & What’s Next…\nRewrite the Rules of Success. \nAlignment. Fulfillment. Freedom.Success isn’t about sacrifice and Burning Out.It’s about alignment\, joy\, and feeling good in all parts of your life\, your body\, and your mind. \nThis is success from the inside out\, elevated\, easy\, and fully aligned with who you are. \nDate: Tuesday 28 Oct\, 2:30 pm GMT \nRSVP HERE \n\n\nRight Place\, Right Time? \n\n\n\n\nYou’ve done the work. Built your Career. Created a beautiful life. There’s so much to be proud of.\nBut there’s also a deeper level calling\, more truth\, more meaning\, more you. \nYou’re here because this isn’t your first time around.\nIt’s not your first business\, not your first rodeo.\nYou’ve created so much\, and now you’re ready for more.\nBut not the kind of “more” that drains you.\nThe kind that sets you free. \nAbout me: \n\n\nBusiness\, Life Coach and Energy Healer.\nMindvalley Master Trainer for the Certifications. \nInsta: torinorris_talks \n25yrs experience helping solopreneurs and entrepreneurs remover limitations\, remember who they are and expand into their highest version\, to live the life they are meant to live.\nWww.torinorris.co.uk
URL:https://mindbodism.com/event/grow-your-business-the-holistic-way-whats-changed-whats-next/
CATEGORIES:*,Online Event
ATTACH;FMTTYPE=image/png:https://mindbodism.com/wp-content/uploads/2025/10/Screenshot-2025-10-28-at-11.08.37.png
END:VEVENT
BEGIN:VEVENT
DTSTART;TZID=Europe/London:20251028T160000
DTEND;TZID=Europe/London:20251030T233000
DTSTAMP:20260421T072232
CREATED:20251023T110413Z
LAST-MODIFIED:20251023T110455Z
UID:10000420-1761667200-1761867000@mindbodism.com
SUMMARY:Selling Online with Russel Branson
DESCRIPTION:Selling Online with Russel Branson\n3 Day Challenge: LIVE OCTOBER 28TH – 30TH  \n8:00 AM Pacific Time (Los Angeles) \, 4:00 PM London\, 5:00 PM Paris\, 11:00 AM New York\, 8:00 PM Dubai\, 12:00 AM Bali (next day)\, 8:00 AM Los Angeles 🌍✨ \nDiscover the One to Many Selling secrets that allowed me to set a world record by selling 1\,079 High Ticket Courses live in just 90 minutes\n\n\n(And How You Can Use These EXACT SAME Secrets To Sell More Of YOUR Own Products In A Single Day\, Than You Did All Of Last Year Combined!) \nRSVP HERE \n‘https://mindbodism.com/event/selling-online-with-russel-branson/
URL:https://mindbodism.com/event/selling-online-with-russel-branson/
CATEGORIES:*,Online Event
ATTACH;FMTTYPE=image/png:https://mindbodism.com/wp-content/uploads/2025/10/Screenshot-2025-10-23-at-11.58.54.png
END:VEVENT
BEGIN:VEVENT
DTSTART;TZID=Europe/London:20251030T140000
DTEND;TZID=Europe/London:20251030T150000
DTSTAMP:20260421T072232
CREATED:20251028T131114Z
LAST-MODIFIED:20251028T131114Z
UID:10000431-1761832800-1761836400@mindbodism.com
SUMMARY:Hypnodance®️ Class: Manifest 3 Wishes
DESCRIPTION:✨ Hypnodance®️ Class: Manifest 3 Wishes ✨\n📅 Date: 30th October\n🕖 Time: 1pm (London) 5:00 PM (Dubai Time) 9:00am (New York)\n⏰ Duration: 45 minutes\n📍 Location: Zoom\n💰 Price: Free inside the 14-Day Hypnodance®️ Trial Membership \n👉 RSVP HERE \nDescription\nThis 45-minute Hypnodance®️ Class is your invitation to manifest your deepest desires — through the power of movement\, energy\, and intention.\nIn this session\, you will:\n• Release limiting beliefs and energetic blocks that hold you back\n• Reconnect with your body’s intuitive wisdom\n• Align your frequency with your heart’s desires\n• Activate the energy of manifestation through dance and hypnosis\n• Step into the version of you who already lives your wishes fulfilled\nNo experience needed — just an open heart and the willingness to move. \nContact\nName: Jasmin Manke\nInstagram: @hypnodance
URL:https://mindbodism.com/event/hypnodance%ef%b8%8f-class-manifest-3-wishes/
CATEGORIES:*,Online Event
ATTACH;FMTTYPE=image/png:https://mindbodism.com/wp-content/uploads/2025/10/MANIFEST-3-WISHES-WITH-Hypnodance®️-.png
END:VEVENT
BEGIN:VEVENT
DTSTART;TZID=Europe/London:20251030T150000
DTEND;TZID=Europe/London:20251030T160000
DTSTAMP:20260421T072232
CREATED:20251028T134108Z
LAST-MODIFIED:20251028T134108Z
UID:10000432-1761836400-1761840000@mindbodism.com
SUMMARY:Remove the Hidden Mental Blocks with Marisa Peer
DESCRIPTION:EXCLUSIVE FREE EXPERIENCE WITH MARISA PEER\n\n\n\n\n\n\nA Free Live Breakthrough Experience To Remove the Hidden Mental Blocks Keeping You from the Abundance\, Success\, and Self-Worth You Deserve…\n\n\n\n\n\n\nThen discover how you could create transformation in others.\nLive on Thursday\, 30th October\, 2025 \n8:00 a.m. PDT | 11:00 a.m. EDT | 3:00 p.m. GMT \nRSVP HERE \n 
URL:https://mindbodism.com/event/remove-the-hidden-mental-blocks-with-marisa-peer/
CATEGORIES:*,Online Event
ATTACH;FMTTYPE=image/png:https://mindbodism.com/wp-content/uploads/2025/10/Screenshot-2025-10-28-at-13.25.54.png
END:VEVENT
BEGIN:VEVENT
DTSTART;TZID=Europe/London:20251030T160000
DTEND;TZID=Europe/London:20251030T170000
DTSTAMP:20260421T072232
CREATED:20251028T170922Z
LAST-MODIFIED:20251028T170922Z
UID:10000437-1761840000-1761843600@mindbodism.com
SUMMARY:COUNTDOWN PARTY Nomad Island Fest 2025
DESCRIPTION:✨ COUNTDOWN PARTY 🔥 Nomad Island Fest 2025✨\n📅 Date: 30th of October 2025\n🕖 Time: London\, New York \, Bali\, Dubai\nLisbon 🇵🇹 6:00 PM – 7:00 PM (Oct 30\, Thu) WEST (UTC+1)\nLondon 🇬🇧 6:00 PM – 7:00 PM (Oct 30\, Thu) BST (UTC+1)\nNew York 🇺🇸 1:00 PM – 2:00 PM (Oct 30\, Thu) EDT (UTC-4)\nDubai 🇦🇪 9:00 PM – 10:00 PM (Oct 30\, Thu) GST (UTC+4)\nBali 🇮🇩 12:00 AM – 1:00 AM (Oct 31\, Fri) WITA (UTC+8) \n🕖 Duration: 1 hour\n📍 Location: https: Virtual\n💰Price: Free \n👉RSVP HERE: \nDescription:\n🌴 Nomad Island Fest 2025 – Countdown Party\n📅 30 Oct. 5.00 PM Lisbon Time (GMT+1)\n📍 Online – Join from anywhere in the world! \nGet ready for the 5th annual edition of Nomad Island Fest\, happening 4–10 December 2025 on the stunning island of Madeira – and this is your exclusive chance to be part of the launch! \n🎉 On Oct 30th\, applications officially open for the most transformational\, red-carpet experience for online Business Owners\nThis info session is your front-row ticket to everything you need to know – and to get ahead of the waitlist. \n💡 What makes Nomad Island Fest different?\nForget the massive\, impersonal conferences or one-dimensional wellness retreats. NIF brings you a soulful\, curated community where business\, personal growth\, wellness\, and adventure come together for a life-changing experience. \n✔️ Network with conscious entrepreneurs\n✔️ Grow personally and professionally\n✔️ Reconnect with your purpose in paradise \nContact\nMichelle Maree \nAbout Organiser:  \nMichelle Maree\nCEO of The Nomad Escape. Entrepreneur\, facilitator\, and connector renowned for creating transformative experiences for remote professionals and business owners. \ninstagram: https://www.instagram.com/the_nomad_escape/ \nthenomadescape.com
URL:https://mindbodism.com/event/countdown-party-nomad-island-fest-2025/
CATEGORIES:*,Online Event
ATTACH;FMTTYPE=image/jpeg:https://mindbodism.com/wp-content/uploads/2025/10/IMG_3640-scaled.jpg
END:VEVENT
BEGIN:VEVENT
DTSTART;TZID=Europe/London:20251101T140000
DTEND;TZID=Europe/London:20251130T140000
DTSTAMP:20260421T072232
CREATED:20251028T140534Z
LAST-MODIFIED:20251028T140722Z
UID:10000433-1762005600-1764511200@mindbodism.com
SUMMARY:30 Day Challenges on Private WhatsApp Group
DESCRIPTION:✨ 30 Day Challenges on Private WhatsApp Group ✨\n📅 Date: 1st November – 30th November (and ongoing thereafter)\n🕖 Time: N/A\n🕖 Duration: 30 Days\n📍 Location: WhatsApp\n💰Price: FREE \n👉RSVP HERE:  \n  \nDescription \nFor the last few years I’ve been running a WhatsApp Group based on simple (less than a few minutes a day) practices that will improve your health/mind etc. Based on The Leadership BEAT Model for Health & Longevity. For example\, previous challenges were 100 Push-Ups a day\, 100 Squats a Day\, 5 minutes Meditation a day\, 3 gratitudes a day and so on. (Not all in one challenge – obviously). This one is about EDUCATION – 5 minutes a day of reading. \nContact:\nName: Hari Kalymnios\ninstagram: thethoughtgym \nAbout Organiser\nHari Kalymnios is an executive health and longevity expert\, helping entrepreneurs and professionals boost their vitality\, improve their resilience and optimise their lives. He’s a TEDx speaker\, published author of 4 books and international speaker with past clients ranging from multinational organisations\, high performing CEO’s\, billionaires and teams like F1 Mercedes as well as executive development institutions like CEDEP.
URL:https://mindbodism.com/event/30-day-challenges-on-private-whatsapp-group/
CATEGORIES:*,Online Event
ATTACH;FMTTYPE=image/jpeg:https://mindbodism.com/wp-content/uploads/2025/10/c8e45643-b5e9-4b72-949f-534817f06eeb-2.jpg
END:VEVENT
END:VCALENDAR