BEGIN:VCALENDAR
VERSION:2.0
PRODID:-//Mindbodism - ECPv6.15.14//NONSGML v1.0//EN
CALSCALE:GREGORIAN
METHOD:PUBLISH
X-WR-CALNAME:Mindbodism
X-ORIGINAL-URL:https://mindbodism.com
X-WR-CALDESC:Events for Mindbodism
REFRESH-INTERVAL;VALUE=DURATION:PT1H
X-Robots-Tag:noindex
X-PUBLISHED-TTL:PT1H
BEGIN:VTIMEZONE
TZID:Europe/London
BEGIN:DAYLIGHT
TZOFFSETFROM:+0000
TZOFFSETTO:+0100
TZNAME:BST
DTSTART:20240331T010000
END:DAYLIGHT
BEGIN:STANDARD
TZOFFSETFROM:+0100
TZOFFSETTO:+0000
TZNAME:GMT
DTSTART:20241027T010000
END:STANDARD
BEGIN:DAYLIGHT
TZOFFSETFROM:+0000
TZOFFSETTO:+0100
TZNAME:BST
DTSTART:20250330T010000
END:DAYLIGHT
BEGIN:STANDARD
TZOFFSETFROM:+0100
TZOFFSETTO:+0000
TZNAME:GMT
DTSTART:20251026T010000
END:STANDARD
BEGIN:DAYLIGHT
TZOFFSETFROM:+0000
TZOFFSETTO:+0100
TZNAME:BST
DTSTART:20260329T010000
END:DAYLIGHT
BEGIN:STANDARD
TZOFFSETFROM:+0100
TZOFFSETTO:+0000
TZNAME:GMT
DTSTART:20261025T010000
END:STANDARD
END:VTIMEZONE
BEGIN:VTIMEZONE
TZID:America/Los_Angeles
BEGIN:DAYLIGHT
TZOFFSETFROM:-0800
TZOFFSETTO:-0700
TZNAME:PDT
DTSTART:20240310T100000
END:DAYLIGHT
BEGIN:STANDARD
TZOFFSETFROM:-0700
TZOFFSETTO:-0800
TZNAME:PST
DTSTART:20241103T090000
END:STANDARD
BEGIN:DAYLIGHT
TZOFFSETFROM:-0800
TZOFFSETTO:-0700
TZNAME:PDT
DTSTART:20250309T100000
END:DAYLIGHT
BEGIN:STANDARD
TZOFFSETFROM:-0700
TZOFFSETTO:-0800
TZNAME:PST
DTSTART:20251102T090000
END:STANDARD
BEGIN:DAYLIGHT
TZOFFSETFROM:-0800
TZOFFSETTO:-0700
TZNAME:PDT
DTSTART:20260308T100000
END:DAYLIGHT
BEGIN:STANDARD
TZOFFSETFROM:-0700
TZOFFSETTO:-0800
TZNAME:PST
DTSTART:20261101T090000
END:STANDARD
END:VTIMEZONE
BEGIN:VEVENT
DTSTART;TZID=Europe/London:20251101T140000
DTEND;TZID=Europe/London:20251130T140000
DTSTAMP:20260420T224034
CREATED:20251028T140534Z
LAST-MODIFIED:20251028T140722Z
UID:10000433-1762005600-1764511200@mindbodism.com
SUMMARY:30 Day Challenges on Private WhatsApp Group
DESCRIPTION:✨ 30 Day Challenges on Private WhatsApp Group ✨\n📅 Date: 1st November – 30th November (and ongoing thereafter)\n🕖 Time: N/A\n🕖 Duration: 30 Days\n📍 Location: WhatsApp\n💰Price: FREE \n👉RSVP HERE:  \n  \nDescription \nFor the last few years I’ve been running a WhatsApp Group based on simple (less than a few minutes a day) practices that will improve your health/mind etc. Based on The Leadership BEAT Model for Health & Longevity. For example\, previous challenges were 100 Push-Ups a day\, 100 Squats a Day\, 5 minutes Meditation a day\, 3 gratitudes a day and so on. (Not all in one challenge – obviously). This one is about EDUCATION – 5 minutes a day of reading. \nContact:\nName: Hari Kalymnios\ninstagram: thethoughtgym \nAbout Organiser\nHari Kalymnios is an executive health and longevity expert\, helping entrepreneurs and professionals boost their vitality\, improve their resilience and optimise their lives. He’s a TEDx speaker\, published author of 4 books and international speaker with past clients ranging from multinational organisations\, high performing CEO’s\, billionaires and teams like F1 Mercedes as well as executive development institutions like CEDEP.
URL:https://mindbodism.com/event/30-day-challenges-on-private-whatsapp-group/
CATEGORIES:*,Online Event
ATTACH;FMTTYPE=image/jpeg:https://mindbodism.com/wp-content/uploads/2025/10/c8e45643-b5e9-4b72-949f-534817f06eeb-2.jpg
END:VEVENT
BEGIN:VEVENT
DTSTART;TZID=America/Los_Angeles:20251103T173000
DTEND;TZID=America/Los_Angeles:20251103T183000
DTSTAMP:20260420T224034
CREATED:20251028T173008Z
LAST-MODIFIED:20251028T173058Z
UID:10000438-1762191000-1762194600@mindbodism.com
SUMMARY:Holiday Destress Series: Somatic Yoga & Meditation
DESCRIPTION:Holiday Destress Series: Somatic Yoga & Meditation\n📅 *Date*: every Monday from 11/3 to 12/15\n🕖 *Time*: 5:30 pm PST Los Angeles\n🕖 *Duration*: 60 minutes\n📍 *Location*: online or in person in Los Angeles\n💰*Price*: $125 for the entire series online. $160 for in person \n👉*RSVP HERE* \n*Description*\nThe holidays are a wonderful time of the year\, but they are also a peak season for stress\, anxiety\, and grief. Don’t just survive the holiday season—thrive through it. Join this exclusive 7-week series designed to make inner peace your weekly habit\, giving you guaranteed space to release anxiety before the chaos begins. \n*Contact*\nName Gaia\nEmail: gaia@wellandwhole.life\ninstagram: wellandwhole.life \n⭐️ Meet Your Guide: Gaia\nWeaving her diverse expertise into one cohesive\, deeply healing journey. \nGaia is a certified Yoga Therapist\, Sound Healer\, and Shamanic Practitioner\nShe focuses specifically on Nervous System Regulation and Cyclic Living\nGaia’s skilled\, thoughtful guidance ensures you receive a safe\, expert-led journey.
URL:https://mindbodism.com/event/holiday-destress-series-somatic-yoga-meditation/
CATEGORIES:Courses,In-Person Event,Online Event
ATTACH;FMTTYPE=image/png:https://mindbodism.com/wp-content/uploads/2025/10/Screenshot-2025-10-28-at-17.18.39.png
END:VEVENT
BEGIN:VEVENT
DTSTART;TZID=Europe/London:20251105T170000
DTEND;TZID=Europe/London:20251105T183000
DTSTAMP:20260420T224034
CREATED:20251102T101049Z
LAST-MODIFIED:20251104T123226Z
UID:10000440-1762362000-1762367400@mindbodism.com
SUMMARY:NORTH STAR MV TRIBE EVENT
DESCRIPTION:✨ *NORTH STAR MV TRIBE EVENT* ✨\nThe Visionary Compass \n📅 *Nov 5th*:\n🕖 *Time*: 5pm London\, 11am New York \, 10pm Bali\, 8pm Dubai\n🕖 *Duration*: 90 minutes\n📍 *Location*: Zoom\n💰*Price*: FREE \n*Description*\nA reunion of MV tribe in person event to rekindle our North Star and stay aligned to what really matters ! \n*Contact*\nName Cheri\nEmail: cs@gardensofchange.com\ninstagram: cheri_stringer \nAbout Organiser\nLed by Cheri Stringer\nCreator of Masterpiece Cafe’ and The Masterpiece Method a transformational architect guiding humble visionaries to align their energy\, purpose and creative fire. \nCheri has helped humble visinary leaders and quietly powerful to move from striving to sovereign creation\, from force to flow and from achievement to purpose . We her clients live in harmony with their values\, vision and vitality.
URL:https://mindbodism.com/event/north-star-mv-tribe-event/
CATEGORIES:*,Online Event
ATTACH;FMTTYPE=image/png:https://mindbodism.com/wp-content/uploads/2025/11/Screenshot-2025-11-02-at-10.15.52.png
END:VEVENT
BEGIN:VEVENT
DTSTART;TZID=Europe/London:20251105T190000
DTEND;TZID=Europe/London:20251105T210000
DTSTAMP:20260420T224034
CREATED:20251028T164731Z
LAST-MODIFIED:20251028T165746Z
UID:10000436-1762369200-1762376400@mindbodism.com
SUMMARY:Kundalini Energy Elevation workshop
DESCRIPTION:Kundalini Energy Elevation workshop\nHello beautiful souls ✨ \nWe’d love to invite you to a special live online Kundalini Energy Elevation workshop with us. This is a powerful 2-hour online session designed to help you: \n✅ Release money + relationship blocks\n✅ Unlock your manifestation energy\n✅ Clear deep\, stuck emotions from your body\n✅ Restore your energy levels and experience full aliveness\n✅ Regulate your nervous system through frequency (not force)\n✅ Feel lighter\, rejuvenated\, and more peaceful than before \nNormally a class like this is £55\, but we’ve created an exclusive family price of £8.88. We’re using the 888 energy to call in the abundance codes for everyone who joins\, so that this session becomes not only transformational but also an activation of prosperity for you and your path. ✨ \nThis is a beautiful opportunity to experience our work in a loving\, supportive container and to deepen the connections we’ve started to build together. \n💫 Live Kundalini Workshop\n📅 5th Nov\, 7pm-9pm GMT\n💻 Online – join from anywhere\n🎟 Reserve your spot here: \nPrice: £8.88 \nWe can’t wait to connect with you again\, share our magic\, and co-create even more abundance together. 🌸 \nWith love\,\nSarve & Mariya \nAbout Sarve & Mariya\nWe both come from disciplined\, structured\, military upbringings. We were raised in environments where logic ruled\, emotions were often suppressed\, and survival came before self-expression. As adults\, we stepped into high-performing corporate lives. Sarvenaz in the tobacco industry as a top sales manager\, Mariya in a corporate role as an auditor and later management consultant with a similar pressure to “succeed” in a man’s world. \nWe had the careers\, the status\, the promotions. But deep inside\, something was missing. We were out of alignment with our truth\, and our souls were calling us forward. \nSo we listened. \nWe walked away from the predictable paths and into the unknown\, choosing to answer the call of our inner voice\, even when it didn’t make sense on paper. From that moment\, our lives became a living prayer. \nWhat followed was nothing short of magic. \nWe activated our Kundalini energy\, reprogrammed our subconscious minds\, embodies our true nature\, claimed our voices and inner wisdom and began living fully in our feminine power\, intuition and soul purpose. \nWe’ve now built a life we once only dreamed of. We travel the world hosting sold-out retreats\, holding transformational sober festivals\, leading initiations and trainings for people who want to become teachers of our work\, and speaking on global stages. Our work has touched the lives of women from all walks of life\, from Miss Worlds and champion athletes to spiritual seekers and entrepreneurs. \nWe’ve been flown to exotic destinations for billionaire birthdays\, held sessions under the stars in the jungle and created deep\, lasting transformations for the clients we serve. But what matters most is this: we’re living proof that when you follow your soul\, the universe doesn’t let you fall. \nAnd now? We’re here to show you how to do the same. \nWhether you’re here to heal\, to lead\, to rise or to remember—this space was made for you. \nWelcome to the Conscious Soul Club!\nWhere magic becomes reality!
URL:https://mindbodism.com/event/kundalini-energy-elevation-workshop-2/
CATEGORIES:*,Online Event
ATTACH;FMTTYPE=image/jpeg:https://mindbodism.com/wp-content/uploads/2025/10/d25a1d28-949a-48f1-8129-a12b2a88a3d0.jpg
END:VEVENT
BEGIN:VEVENT
DTSTART;TZID=Europe/London:20251106T000000
DTEND;TZID=Europe/London:20251106T020000
DTSTAMP:20260420T224034
CREATED:20251028T123759Z
LAST-MODIFIED:20251028T123759Z
UID:10000430-1762387200-1762394400@mindbodism.com
SUMMARY:Break Out of Burnout: Mind-Body Solutions for Sustainable Healing
DESCRIPTION:Break Out of Burnout: Mind-Body Solutions for Sustainable Healing\n📅 Date: Thursday\, November 6\, 2025\n🕖 Time:\n• London – 12:00 AM\n• New York – 8:00 PM (Nov 5)\n• Bali – 7:00 AM\n• Dubai – 4:00 AM\n🕖 Duration: 1 hour\n📍 Location: Zoom (online)\n💰 Price: Free for Mindbodism Members — RSVP here \n👉 RSVP HERE:  \n  \nDescription \nBurnout isn’t just exhaustion — it’s a physiological crisis.\nLeft unaddressed\, it can spiral into long-term\, and sometimes irreversible\, health consequences: adrenal fatigue\, inexplicable hair loss\, hormonal imbalances\, loss of motivation\, anxiety\, and depression. \nThe good news? It’s preventable.\nBut healing begins with awareness — understanding the early signs and how your unique body and mind respond to stress. \nIn this free 1-hour masterclass\, Ayurvedic Practitioner and Vitality Mentor Valerie Hwang Beck will guide you through a holistic framework to help you stop running on empty and start feeling like yourself again. \nYou’ll learn:\n✨ The real causes of modern burnout (and why “self-care” isn’t enough)\n✨ How stress shows up differently in your body and personality type\n✨ A 5\,000-year-old mind-body framework to restore clarity\, energy\, and focus\n✨ How to stop coping — and start truly recovering\n✨ A first look at The Vibrant Visionary Blueprint — a 9-step system for sustainable healing \nThis session is for you if you:\n🌿 Feel exhausted no matter how much you rest\n🌿 Rely on caffeine\, sugar\, or scrolling to get through the day\n🌿 Have tried therapy or supplements but still feel off\n🌿 Are ready to reclaim your energy and clarity — without burning out again \nYou’ll leave with practical tools and a renewed understanding of your inner wisdom as your greatest healer — and a roadmap to restore balance\, energy\, and joy. \n💫 Contact\nName: Valerie Hwang Beck\nEmail: valerie@intrepidwellness.life \nInstagram: @vibrantvisionary.val \n🌟 About the Organiser \nValerie Hwang Beck is a Board-Certified Ayurvedic Practitioner and Vitality & Vision Mentor on a mission to help the millennial generation break free from burnout\, restore their vitality\, and reclaim sovereignty over their own health. \nA graduate of Northwestern University in Human Development & Psychological Services\, she blends Ayurvedic wisdom\, modern neuroscience\, and embodied leadership to help people rebuild energy and purpose — without the pressure culture of hustle and burnout. \nShe’s the founder of The Vibrant Visionary Collective\, a year-long mentorship for sustainable healing and authentic leadership.
URL:https://mindbodism.com/event/break-out-of-burnout-mind-body-solutions-for-sustainable-healing/
CATEGORIES:*,Online Event
ATTACH;FMTTYPE=image/jpeg:https://mindbodism.com/wp-content/uploads/2025/10/9fa5323c-4157-4889-8b95-b6fcf888aff3.jpg
END:VEVENT
BEGIN:VEVENT
DTSTART;TZID=Europe/London:20251106T200000
DTEND;TZID=Europe/London:20251108T230000
DTSTAMP:20260420T224034
CREATED:20251015T082348Z
LAST-MODIFIED:20251106T180539Z
UID:10000409-1762459200-1762642800@mindbodism.com
SUMMARY:AI Advantage  Summit with Tony and Dean
DESCRIPTION:AI Advantage Summit with Tony and Dean\n\nDate: 6-8 November\nTime: 19.00 London\, 22.00 Dubai\, 14.00 New York\, 11.00 Los Angeles\n\n\nAI is moving at lightning speed\n\n\nBut you don’t need every tool\, every update\, or every hack. What you need is the one thing every business owner\, entrepreneur and career achiever is starving for: MORE TIME\n\nBecause when you buy back time and combine it with the right leverage you accelerate everything exponentially…\n\nYou accelerate your productivity\, your marketing\, your sales\, your operations\, your finances and your overall success.\n\n\n\nThis event isn’t about overwhelming you with tech demos on tools you ll forget by December. It’s about showing you what’s possible when you use the RIGHT AI to reclaim your time and multiply your results.\n\n\n\nImagine 15 hours a week given back to you to innovate\, scale\, create\, and actually live.\nImagine multiplying your output 10–50x without adding a single team member.\n​Imagine gaining a clear competitive edge while everyone else is still trying to figure AI out.\n\n\n\nThat’s the power of AI when it’s used right.\nAnd the AI Advantage Summit is where you’ll discover exactly how from the world’s leading experts.\n\n\n\n\nWe Did the Work. \nYou Get the Shortcut.\n\n\n\n\nTony and Dean spent hundreds of hours interviewing the world’s top AI founders\, researchers\, and entrepreneurs… And together\, they distilled it all into one mission:\n\nTo make using AI to amplify your business and your life simple\, actionable\, and immediately useful.\n\nWhether you’re a solopreneur wearing every hat\, a small business owner ready to scale\, or a professional looking to future-proof your career\, the AI Advantage Summit was designed for you.”
URL:https://mindbodism.com/event/ai-advantage-summit-with-tony-and-dean/
CATEGORIES:*,Online Event
ATTACH;FMTTYPE=image/png:https://mindbodism.com/wp-content/uploads/2025/10/Screenshot-2025-10-15-at-09.22.42.png
END:VEVENT
END:VCALENDAR