BEGIN:VCALENDAR
VERSION:2.0
PRODID:-//Mindbodism - ECPv6.15.14//NONSGML v1.0//EN
CALSCALE:GREGORIAN
METHOD:PUBLISH
X-ORIGINAL-URL:https://mindbodism.com
X-WR-CALDESC:Events for Mindbodism
REFRESH-INTERVAL;VALUE=DURATION:PT1H
X-Robots-Tag:noindex
X-PUBLISHED-TTL:PT1H
BEGIN:VTIMEZONE
TZID:Europe/London
BEGIN:DAYLIGHT
TZOFFSETFROM:+0000
TZOFFSETTO:+0100
TZNAME:BST
DTSTART:20250330T010000
END:DAYLIGHT
BEGIN:STANDARD
TZOFFSETFROM:+0100
TZOFFSETTO:+0000
TZNAME:GMT
DTSTART:20251026T010000
END:STANDARD
BEGIN:DAYLIGHT
TZOFFSETFROM:+0000
TZOFFSETTO:+0100
TZNAME:BST
DTSTART:20260329T010000
END:DAYLIGHT
BEGIN:STANDARD
TZOFFSETFROM:+0100
TZOFFSETTO:+0000
TZNAME:GMT
DTSTART:20261025T010000
END:STANDARD
BEGIN:DAYLIGHT
TZOFFSETFROM:+0000
TZOFFSETTO:+0100
TZNAME:BST
DTSTART:20270328T010000
END:DAYLIGHT
BEGIN:STANDARD
TZOFFSETFROM:+0100
TZOFFSETTO:+0000
TZNAME:GMT
DTSTART:20271031T010000
END:STANDARD
END:VTIMEZONE
BEGIN:VEVENT
DTSTART;TZID=Europe/London:20260419T080000
DTEND;TZID=Europe/London:20260426T170000
DTSTAMP:20260424T144955
CREATED:20260419T134945Z
LAST-MODIFIED:20260419T134945Z
UID:10002492-1776585600-1777222800@mindbodism.com
SUMMARY:PODCAST: From Stress and Anxiety to Healing and Transformation - Inside the Subconscious
DESCRIPTION:From Stress and Anxiety to Healing and Transformation – Inside the Subconscious\nBurnout\, chronic stress\, or anxiety doesn’t mean you’re weak. \nAnd it doesn’t mean there’s something wrong with you. \nIt often means you’ve been strong for too long in an environment that never truly gives your nervous system a chance to reset. \nI explored this in a recent podcast conversation\, and we went deeper than the surface-level fixes. \nListen here 👇🏼 \n \nNot productivity hacks.\nNot “just take a break.” \nBut what’s actually happening in your body\, mind and nervous system when pressure becomes your baseline. \nWe also addressed why common regulation tools sometimes only work temporarily\, and what actually helps make shifts more lasting. \nAt the end of the episode\, I share a 15-minute guided hypnosis track I created to help regulate your nervous system — a practical tool you can use alongside the insights from the conversation. \n🎧 If this has been your normal for a while\, this conversation may land closer to home than you might expect.
URL:https://mindbodism.com/event/podcast-from-stress-and-anxiety-to-healing-and-transformation-inside-the-subconscious/
CATEGORIES:*,Podcast
ATTACH;FMTTYPE=image/png:https://mindbodism.com/wp-content/uploads/2026/04/Podcast-Sharing-with-Mindbodism.png
END:VEVENT
END:VCALENDAR