BEGIN:VCALENDAR
VERSION:2.0
PRODID:-//Mindbodism - ECPv6.15.14//NONSGML v1.0//EN
CALSCALE:GREGORIAN
METHOD:PUBLISH
X-ORIGINAL-URL:https://mindbodism.com
X-WR-CALDESC:Events for Mindbodism
REFRESH-INTERVAL;VALUE=DURATION:PT1H
X-Robots-Tag:noindex
X-PUBLISHED-TTL:PT1H
BEGIN:VTIMEZONE
TZID:Europe/London
BEGIN:DAYLIGHT
TZOFFSETFROM:+0000
TZOFFSETTO:+0100
TZNAME:BST
DTSTART:20240331T010000
END:DAYLIGHT
BEGIN:STANDARD
TZOFFSETFROM:+0100
TZOFFSETTO:+0000
TZNAME:GMT
DTSTART:20241027T010000
END:STANDARD
BEGIN:DAYLIGHT
TZOFFSETFROM:+0000
TZOFFSETTO:+0100
TZNAME:BST
DTSTART:20250330T010000
END:DAYLIGHT
BEGIN:STANDARD
TZOFFSETFROM:+0100
TZOFFSETTO:+0000
TZNAME:GMT
DTSTART:20251026T010000
END:STANDARD
BEGIN:DAYLIGHT
TZOFFSETFROM:+0000
TZOFFSETTO:+0100
TZNAME:BST
DTSTART:20260329T010000
END:DAYLIGHT
BEGIN:STANDARD
TZOFFSETFROM:+0100
TZOFFSETTO:+0000
TZNAME:GMT
DTSTART:20261025T010000
END:STANDARD
END:VTIMEZONE
BEGIN:VTIMEZONE
TZID:Europe/Lisbon
BEGIN:DAYLIGHT
TZOFFSETFROM:+0000
TZOFFSETTO:+0100
TZNAME:WEST
DTSTART:20240331T010000
END:DAYLIGHT
BEGIN:STANDARD
TZOFFSETFROM:+0100
TZOFFSETTO:+0000
TZNAME:WET
DTSTART:20241027T010000
END:STANDARD
BEGIN:DAYLIGHT
TZOFFSETFROM:+0000
TZOFFSETTO:+0100
TZNAME:WEST
DTSTART:20250330T010000
END:DAYLIGHT
BEGIN:STANDARD
TZOFFSETFROM:+0100
TZOFFSETTO:+0000
TZNAME:WET
DTSTART:20251026T010000
END:STANDARD
BEGIN:DAYLIGHT
TZOFFSETFROM:+0000
TZOFFSETTO:+0100
TZNAME:WEST
DTSTART:20260329T010000
END:DAYLIGHT
BEGIN:STANDARD
TZOFFSETFROM:+0100
TZOFFSETTO:+0000
TZNAME:WET
DTSTART:20261025T010000
END:STANDARD
END:VTIMEZONE
BEGIN:VTIMEZONE
TZID:Europe/Paris
BEGIN:DAYLIGHT
TZOFFSETFROM:+0100
TZOFFSETTO:+0200
TZNAME:CEST
DTSTART:20240331T010000
END:DAYLIGHT
BEGIN:STANDARD
TZOFFSETFROM:+0200
TZOFFSETTO:+0100
TZNAME:CET
DTSTART:20241027T010000
END:STANDARD
BEGIN:DAYLIGHT
TZOFFSETFROM:+0100
TZOFFSETTO:+0200
TZNAME:CEST
DTSTART:20250330T010000
END:DAYLIGHT
BEGIN:STANDARD
TZOFFSETFROM:+0200
TZOFFSETTO:+0100
TZNAME:CET
DTSTART:20251026T010000
END:STANDARD
BEGIN:DAYLIGHT
TZOFFSETFROM:+0100
TZOFFSETTO:+0200
TZNAME:CEST
DTSTART:20260329T010000
END:DAYLIGHT
BEGIN:STANDARD
TZOFFSETFROM:+0200
TZOFFSETTO:+0100
TZNAME:CET
DTSTART:20261025T010000
END:STANDARD
END:VTIMEZONE
BEGIN:VTIMEZONE
TZID:Asia/Dubai
BEGIN:STANDARD
TZOFFSETFROM:+0400
TZOFFSETTO:+0400
TZNAME:+04
DTSTART:20240101T000000
END:STANDARD
END:VTIMEZONE
BEGIN:VEVENT
DTSTART;TZID=Europe/London:20251203T190000
DTEND;TZID=Europe/London:20251203T203000
DTSTAMP:20260424T011051
CREATED:20251203T151654Z
LAST-MODIFIED:20251203T151915Z
UID:10000476-1764788400-1764793800@mindbodism.com
SUMMARY:Activate Your (Hidden) Million-Dollar Skill
DESCRIPTION:Activate Your (Hidden) Million-Dollar Skill\nDate: Wednesday 03 December \n🕖 Time: 7 PM London / 2 PM New York \n🕖 Duration: 90 minutes\n📍 Location: Zoom\n💰Price: FREE \nDescription of the course:\nActivate the #1 Skill You Can Develop To Elevate Your Business and Life!\nIt’s not AI. It’s not marketing. It’s not tech.\nIt’s one human skill that unlocks\ninfluence\, income\, and impact. \n(And you already have it inside you!) \nMeet Your Mentor\nFrans Francis — Soulful Selling Founder\nCoach of Coaches Since 2012 | Empowering Leaders to Harmonize Commerce with Fulfillment \nI’ve helped entrepreneurs and sales teams generate millions\, not through manipulation\, but by integrating ancient wisdom with modern strategy. Over 12 years\, I’ve guided everyone from freelancers to 8-figure companies\, creating my Soul Business Coaching methodology that transforms how we approach prosperity. When you combine deep spiritual practice with practical business acumen\, magic happens.
URL:https://mindbodism.com/event/activate-your-hidden-million-dollar-skill-3/
CATEGORIES:*,Online Event
ATTACH;FMTTYPE=image/jpeg:https://mindbodism.com/wp-content/uploads/2025/11/3018891a-6f07-4c3a-a1e9-17f7fb00331c.jpg
END:VEVENT
BEGIN:VEVENT
DTSTART;TZID=Europe/Lisbon:20251204T150000
DTEND;TZID=Europe/Lisbon:20251210T170000
DTSTAMP:20260424T011051
CREATED:20251106T112258Z
LAST-MODIFIED:20251106T112742Z
UID:10000446-1764860400-1765386000@mindbodism.com
SUMMARY:NOMAD ISLAND FEST (Madeira Island)
DESCRIPTION:✨ NOMAD ISLAND FEST ✨\nDescription\nThe Nomad Island Fest\, organized by The Nomad Escape\, is an annual event for digital nomads\, location independent entrepreneurs and business owners\, remote workers\, entrepreneurs. It combines professional development\, personal growth\, and community building in a tropical setting. The 2025 event includes workshops\, networking opportunities\, and recreational activities tailored to enhance the nomadic lifestyle. \n**Event Objectives:** \n– **Professional Development:** Conduct workshops and sessions on business growth\, productivity\, and remote work strategies.\n– **Networking:** Facilitate connections among attendees to foster collaboration and support within the nomad community.\n– **Personal Growth:** Offer wellness activities\, mindfulness sessions\, and motivational talks for self-improvement.\n– **Community Building:** Create a supportive and engaging environment for participants to build lasting relationships. \n– **Date | Time | Location**\n– 🗓️ **4-10 December 2025**\n– ⏰ Check-in: **3 PM**\nEvent Start: **3.30 PM** \nPrice: From 1345 Euros \nDeparture Time Check-out: **12 PM** \n– 📍 Address: **Estalagem da Ponta do Sol\,** Caminho do Passo 6\, 9360-529 Ponta do Sol\, Portugal\n– ☎️ [+351 291970200](tel:+351291970200)\n– 📧 [info@pontadosol.com](mailto:info@pontadosol.com)\n– ✈️ Airport Pick-Up Shuttle Service for **Premium Tickets** From: Madeira Airport (FNC) \n**Vibe and Setting:** \nThe event offers a relaxed yet vibrant atmosphere\, ideal for both unwinding and focused development. Set in a picturesque tropical location\, it features a harmonious mix of learning\, leisure\, and adventure within an inclusive community. \n**Venue:** \nThe event will be held at the Estalagem Ponta do Sol hotel\, a luxurious cliff-top hotel located in Ponta do Sol\, Madeira. The hotel offers stunning panoramic views of the ocean and lush landscapes\, providing an idyllic setting for relaxation and inspiration. The Estalagem Ponta do Sol is renowned for its serene ambiance\, modern amenities\, and exceptional service\, making it the perfect venue for fostering both personal and professional growth. \nContact\nName: Anastasia Debessel\nEmail: anastasia@thenomadescape.com\ninstagram: the_nomad_escape \nAbout Organiser:\nMichelle Maree\nCEO of The Nomad Escape. Entrepreneur\, facilitator\, and connector renowned for creating transformative experiences for remote professionals and business owners.
URL:https://mindbodism.com/event/nomad-island-fest-madeira-island/
CATEGORIES:*,In-Person Event,Retreats
ATTACH;FMTTYPE=image/png:https://mindbodism.com/wp-content/uploads/2025/11/Screenshot-2025-11-06-at-11.22.05.png
END:VEVENT
BEGIN:VEVENT
DTSTART;TZID=Europe/London:20251204T170000
DTEND;TZID=Europe/London:20251204T183000
DTSTAMP:20260424T011051
CREATED:20251203T142720Z
LAST-MODIFIED:20251203T143232Z
UID:10000473-1764867600-1764873000@mindbodism.com
SUMMARY:Masterclass: Harness Your Intuition to Unlock Higher Success
DESCRIPTION:✨ *Masterclass: Harness Your Intuition to Unlock Higher Success* ✨\n📅 *Date:* Dec 4th (Thursday)\n🕖 *Time:*\n* New York: 12PM\n* São Paulo: 2PM\n* London: 5PM\n* Dubai: 9PM\n* Bali: 2AM _(next day)_ \n🕖 *Duration:* 90 min\n📍 *Location:* Live via Google Meet\n💰 *Price:* Free (limited spots for deeper engagement) \n*Description*  \nJoin Laís\, Intuitive Healer & Coach\, for a high-impact Masterclass that blends neuroscience\, strategy\, and intuition to radically upgrade how you make decisions and create success that feels as good as it looks. \nIn this FREE transformational Masterclass\, you’ll discover how to:\n* Turn overthinking into calm\, confident\, fast action\n* Use the Science of Intuition as your most underused success tool\n* Apply the Stratuitive Compass™️ — a method that merges Strategy\, Neuroscience & Intuition for unstoppable flow in life and business \nJoin live and get 2 powerful bonuses:\n* Stratuitive™️ Decision Map – a step-by-step visual guide to make complex decisions with clarity and confidence\n* Daily Energy Reset Routine – a 10-minute practice to clear mental noise\, reconnect to your inner guidance\, and stay focused \nIf you’re serious about aligned success and are done with doubt\, hesitation\, and second-guessing\, this is the Masterclass you don’t skip. Spots are limited — reserve your place now. \n*Contact* -  \nName: Laís Yokoyama - \nEmail: lais.dothegood@gmail.com - \nPhone: +55 11 91040-4057 - \nInstagram: @do.the.good \n*About Organiser*  \nLaís is an Intuitive Healer & Coach with 13+ years of international career who now helps conscious achievers create extraordinary\, tangible results from the inside out. She developed a unique methodology that fuses strategy\, spirituality\, and neuroscience to dissolve inner limitations\, unlock purpose\, and translate insight into concrete action. Her work bridges the intuitive and the practical\, combining powerful mindset shifts\, energetic techniques\, and strategic tools so clients experience more prosperity\, impact\, confidence\, and deeply aligned success that once felt out of reach.
URL:https://mindbodism.com/event/masterclass-harness-your-intuition-to-unlock-higher-success/
CATEGORIES:*,Online Event
ATTACH;FMTTYPE=image/jpeg:https://mindbodism.com/wp-content/uploads/2025/12/6a50f3c1-0bce-4099-9a42-1b36aea4f8f0.jpg
END:VEVENT
BEGIN:VEVENT
DTSTART;TZID=Europe/Paris:20251204T193000
DTEND;TZID=Europe/Paris:20251204T220000
DTSTAMP:20260424T011051
CREATED:20251122T182102Z
LAST-MODIFIED:20251122T182522Z
UID:10000464-1764876600-1764885600@mindbodism.com
SUMMARY:Art et Méditation Guidée dans un atelier d'artiste en présence de l'artiste - Paris
DESCRIPTION:**Art et Méditation Guidée dans un atelier d’artiste en présence de l’artiste – Paris*\n📅 *Date*: 4 décembre\n🕖 *Time*: 19h30 – 22h00 (Paris time)\n📍 *Location*: Atelier de l’artiste – Boulevard de Strasbourg\, 75010 Paris\, France\n💰*Price*: 46\,13€ avec la remise \n*Description*\nJe suis ravie de partager avec vous la *25ᵉ édition de mes immersions Art & Méditation guidée*\, cette fois on se donne rendez-vous dans l’atelier de l’artiste *Yassine Mecknache* ✨ \nLe temps d’une soirée (2h30\, en français)\, nous plongerons ensemble dans *une expérience unique et transformatrice*\, où art\, hypnose et PNL ouvriront les portes de votre imaginaire. Vous serez invité·e à explorer une œuvre de l’intérieur\, à rencontrer votre part créative\, et à vivre un voyage intérieur puissant et inspirant. \nL’immersion se prolongera autour de mise en bouches convivial\, suivi d’un cercle de partage et d’une rencontre privilégiée avec l’artiste. Ses œuvres\, entre jaillissement de peintures et broderie\, réinventent le regard et ouvrent à de nouvelles perspectives 🎨 \n🌟 Les places sont limitées à seulement *9 participants* pour préserver l’intimité et la profondeur de l’expérience.\n🎟 Réservation obligatoire avec le code *MVUFAM*\, vous bénéficiez de -10% sur votre billet. \nSi vous sentez l’appel\, je vous invite à réserver dès maintenant et à vivre cette nouvelle édition inoubliable 💫 \nAvec joie de vous retrouver dans cet espace\,\nCharlène \n*Contact*\nName : Charlène Delaville\nEmail: delaville.charlene@gmail.com\nIG : https://www.instagram.com/charlene.delaville/ \n 
URL:https://mindbodism.com/event/art-et-meditation-guidee-dans-un-atelier-dartiste-en-presence-de-lartiste-paris/
CATEGORIES:*,In-Person Event
ATTACH;FMTTYPE=image/jpeg:https://mindbodism.com/wp-content/uploads/2025/11/e82d97fb-5bfb-4d89-8554-9a24e18df654.jpg
END:VEVENT
BEGIN:VEVENT
DTSTART;TZID=Europe/London:20251205T150000
DTEND;TZID=Europe/London:20251207T220000
DTSTAMP:20260424T011051
CREATED:20251202T164015Z
LAST-MODIFIED:20251202T164217Z
UID:10000471-1764946800-1765144800@mindbodism.com
SUMMARY:VISION 2026- 3 day online live challenge
DESCRIPTION:VISION 2026\n\n\n\n\n\n\n3-DAY THAT WILL LEAVE YOU WITH A ROADMAP TO MASSIVE SUCCESS IN 2026 AND BEYOND \nVision 2026” isn’t about New Year’s resolutions. It’s about results. For three days\, we’ll help you transform your live NOW and in 2026. \nDate: 5-7 Dec \nTime: 15:00-22.00 London time \n\nRSVP HERE \n‘https://mindbodism.com/event/vision-2026-3-day-online-live-challenge/ \n\nDay 1\n\n\n\n\n\n\n\n\n\n\n\n\n\nFinish Strong and Set the Stage for Massive Success \n\n\n\n\n\n\nPart 1: Raising Your Standards \nDiscover the REAL Success Model and the 3 vital steps to close out 2025 with a bang and prepare for a phenomenal 2026. Lay down the foundational mindset and strategies to create dramatic change immediately. \n\nPart 2: Achieving Financial Breakthrough \nLearn the key strategy 99% of people overlook for financial independence and abundance. Implement this to ensure you’re financially set for an extraordinary 2026. \n\n\n\n\n\n\n\nDay 3\n\n\n\n\n\n\n\n\n\n\nTransform & Optimize Your Path Forward \n\n\n\n\n\n\nPart 1: Change Your Identity to Change Your Outcomes \nYour results are a reflection of who you believe you are. In this session\, we’ll identify limiting beliefs and patterns in your identity — then reprogram them at a deep level to unlock your full potential. \n\nPart 2: Maximize Productivity \nOverwhelm and procrastination can hold you back. Gain powerful tools to take immediate control of your time\, eliminate distractions\, and design a productivity plan that will catapult you into success. \n\n\n\n\n\n\n\n\n\n\n\n\n\n\n\n\nDAY 3\n\n\n\n\n\nUnlock Your Business & Tech Power in 2026 \n\n\n\n\n\nPart 1: Mastering Business in 2026 \nLearn the latest strategies to scale\, innovate\, and dominate your industry in the year ahead. Stay ahead of the curve and turn your business into an unstoppable force. \n\nPart 2: AI Unleashed — The Future of Success in 2026 \nDiscover how artificial intelligence will revolutionize your business and life. Tap into the cutting-edge AI tools and insights to amplify your results and stay ahead in this rapidly evolving world.
URL:https://mindbodism.com/event/vision-2026-3-day-online-live-challenge/
CATEGORIES:*,Online Event
ATTACH;FMTTYPE=image/png:https://mindbodism.com/wp-content/uploads/2025/12/Screenshot-2025-12-02-at-16.39.01.png
END:VEVENT
BEGIN:VEVENT
DTSTART;TZID=Asia/Dubai:20251206T110000
DTEND;TZID=Asia/Dubai:20251206T140000
DTSTAMP:20260424T011051
CREATED:20251203T141759Z
LAST-MODIFIED:20251203T142100Z
UID:10000472-1765018800-1765029600@mindbodism.com
SUMMARY:PAUSE & PAINT - Relaxing Art Workshop (Dubai)
DESCRIPTION:🎨*PAUSE & PAINT – Relaxing Art Workshop*🧘🏻‍♀️\n📅 *Date*: 6th December 2025\n🕖 *Time*: 11:00- 14:00\n🕖 *Duration*: 3 hours\n📍 *Location*: Mahfel Restaurant & Cafe\, Dubai\n💰*Price*: AED199 \n*Description* \nJoin us if you’re looking for a creative\, grounding activity to do this weekend\, and meet some new people. \nAll materials provided\, open to all ages\, no prior experience needed. We’re just gathering to unwind and have fun! \n*Contact*\nName: Ati\nEmail: ati@thecryingcanvas.com\nPhone: 971509783010\ninstagram: @thecryingcanvas
URL:https://mindbodism.com/event/pause-paint-relaxing-art-workshop-dubai/
CATEGORIES:*,In-Person Event
ATTACH;FMTTYPE=image/jpeg:https://mindbodism.com/wp-content/uploads/2025/12/cb958dc2-8b3e-40fb-9130-c530dfb537eb-2-scaled.jpg
END:VEVENT
END:VCALENDAR