BEGIN:VCALENDAR
VERSION:2.0
PRODID:-//Mindbodism - ECPv6.15.14//NONSGML v1.0//EN
CALSCALE:GREGORIAN
METHOD:PUBLISH
X-ORIGINAL-URL:https://mindbodism.com
X-WR-CALDESC:Events for Mindbodism
REFRESH-INTERVAL;VALUE=DURATION:PT1H
X-Robots-Tag:noindex
X-PUBLISHED-TTL:PT1H
BEGIN:VTIMEZONE
TZID:Europe/London
BEGIN:DAYLIGHT
TZOFFSETFROM:+0000
TZOFFSETTO:+0100
TZNAME:BST
DTSTART:20240331T010000
END:DAYLIGHT
BEGIN:STANDARD
TZOFFSETFROM:+0100
TZOFFSETTO:+0000
TZNAME:GMT
DTSTART:20241027T010000
END:STANDARD
BEGIN:DAYLIGHT
TZOFFSETFROM:+0000
TZOFFSETTO:+0100
TZNAME:BST
DTSTART:20250330T010000
END:DAYLIGHT
BEGIN:STANDARD
TZOFFSETFROM:+0100
TZOFFSETTO:+0000
TZNAME:GMT
DTSTART:20251026T010000
END:STANDARD
BEGIN:DAYLIGHT
TZOFFSETFROM:+0000
TZOFFSETTO:+0100
TZNAME:BST
DTSTART:20260329T010000
END:DAYLIGHT
BEGIN:STANDARD
TZOFFSETFROM:+0100
TZOFFSETTO:+0000
TZNAME:GMT
DTSTART:20261025T010000
END:STANDARD
END:VTIMEZONE
BEGIN:VEVENT
DTSTART;TZID=Europe/London:20251230T133000
DTEND;TZID=Europe/London:20251230T150000
DTSTAMP:20260420T011322
CREATED:20251230T115736Z
LAST-MODIFIED:20251230T120219Z
UID:10000488-1767101400-1767106800@mindbodism.com
SUMMARY:The Masterclass 2026 – The Biggest Disruption in Modern Human History
DESCRIPTION:The Masterclass 2026 – The Biggest Disruption in Modern Human History\n\n📅 Date:\nTuesday\, December 30\, 2025\n\n🕖 Time:\n•London (UK): 1:30 PM\n•New York (EST): 8:30 AM\n•Bali: 9:30 PM\n•Dubai: 5:30 PM\n\n🕖 Duration:\n90 minute\n\n📍 Location:\nLive on Zoom (Online)\n\n💰 Price:\nFree to attend – Limited seats\n\n👉 RSVP HERE:\n\n\nDescription\n\n2026 will be the biggest disruption in modern human history.\n\nThis live masterclass breaks down what’s coming\, what most people will miss\, and how to position yourself to not just survive—but win—in the new era.\n\nIf you want clarity\, focus\, and a strategic edge in a world drowning in noise\, distraction\, and rapid AI-driven change\, this session is for you.\n\nLive. Practical. No fluff.\n\n Tarkan Salar\n\nAbout Organiser\n\nTarkan Salar is the founder of Be Unstoppable 365.\nWith 28+ years as an entrepreneur\, he has built eight-figure businesses\, created world-first products\, and worked globally across Asia and Europe. His work focuses on mindset\, strategy\, and building Blue Ocean opportunities in times of massive disruption.
URL:https://mindbodism.com/event/the-masterclass-2026-the-biggest-disruption-in-modern-human-history/
CATEGORIES:*,Online Event
ATTACH;FMTTYPE=image/jpeg:https://mindbodism.com/wp-content/uploads/2025/12/09aeaaaa-2467-4389-8a5a-bf187dd1f970.jpg
END:VEVENT
END:VCALENDAR