BEGIN:VCALENDAR
VERSION:2.0
PRODID:-//Mindbodism - ECPv6.15.14//NONSGML v1.0//EN
CALSCALE:GREGORIAN
METHOD:PUBLISH
X-ORIGINAL-URL:https://mindbodism.com
X-WR-CALDESC:Events for Mindbodism
REFRESH-INTERVAL;VALUE=DURATION:PT1H
X-Robots-Tag:noindex
X-PUBLISHED-TTL:PT1H
BEGIN:VTIMEZONE
TZID:Europe/Paris
BEGIN:DAYLIGHT
TZOFFSETFROM:+0100
TZOFFSETTO:+0200
TZNAME:CEST
DTSTART:20240331T010000
END:DAYLIGHT
BEGIN:STANDARD
TZOFFSETFROM:+0200
TZOFFSETTO:+0100
TZNAME:CET
DTSTART:20241027T010000
END:STANDARD
BEGIN:DAYLIGHT
TZOFFSETFROM:+0100
TZOFFSETTO:+0200
TZNAME:CEST
DTSTART:20250330T010000
END:DAYLIGHT
BEGIN:STANDARD
TZOFFSETFROM:+0200
TZOFFSETTO:+0100
TZNAME:CET
DTSTART:20251026T010000
END:STANDARD
BEGIN:DAYLIGHT
TZOFFSETFROM:+0100
TZOFFSETTO:+0200
TZNAME:CEST
DTSTART:20260329T010000
END:DAYLIGHT
BEGIN:STANDARD
TZOFFSETFROM:+0200
TZOFFSETTO:+0100
TZNAME:CET
DTSTART:20261025T010000
END:STANDARD
END:VTIMEZONE
BEGIN:VTIMEZONE
TZID:Europe/London
BEGIN:DAYLIGHT
TZOFFSETFROM:+0000
TZOFFSETTO:+0100
TZNAME:BST
DTSTART:20240331T010000
END:DAYLIGHT
BEGIN:STANDARD
TZOFFSETFROM:+0100
TZOFFSETTO:+0000
TZNAME:GMT
DTSTART:20241027T010000
END:STANDARD
BEGIN:DAYLIGHT
TZOFFSETFROM:+0000
TZOFFSETTO:+0100
TZNAME:BST
DTSTART:20250330T010000
END:DAYLIGHT
BEGIN:STANDARD
TZOFFSETFROM:+0100
TZOFFSETTO:+0000
TZNAME:GMT
DTSTART:20251026T010000
END:STANDARD
BEGIN:DAYLIGHT
TZOFFSETFROM:+0000
TZOFFSETTO:+0100
TZNAME:BST
DTSTART:20260329T010000
END:DAYLIGHT
BEGIN:STANDARD
TZOFFSETFROM:+0100
TZOFFSETTO:+0000
TZNAME:GMT
DTSTART:20261025T010000
END:STANDARD
END:VTIMEZONE
BEGIN:VTIMEZONE
TZID:Asia/Jakarta
BEGIN:STANDARD
TZOFFSETFROM:+0700
TZOFFSETTO:+0700
TZNAME:WIB
DTSTART:20240101T000000
END:STANDARD
END:VTIMEZONE
BEGIN:VTIMEZONE
TZID:Europe/Paris
BEGIN:DAYLIGHT
TZOFFSETFROM:+0100
TZOFFSETTO:+0200
TZNAME:CEST
DTSTART:20240331T010000
END:DAYLIGHT
BEGIN:STANDARD
TZOFFSETFROM:+0200
TZOFFSETTO:+0100
TZNAME:CET
DTSTART:20241027T010000
END:STANDARD
BEGIN:DAYLIGHT
TZOFFSETFROM:+0100
TZOFFSETTO:+0200
TZNAME:CEST
DTSTART:20250330T010000
END:DAYLIGHT
BEGIN:STANDARD
TZOFFSETFROM:+0200
TZOFFSETTO:+0100
TZNAME:CET
DTSTART:20251026T010000
END:STANDARD
BEGIN:DAYLIGHT
TZOFFSETFROM:+0100
TZOFFSETTO:+0200
TZNAME:CEST
DTSTART:20260329T010000
END:DAYLIGHT
BEGIN:STANDARD
TZOFFSETFROM:+0200
TZOFFSETTO:+0100
TZNAME:CET
DTSTART:20261025T010000
END:STANDARD
END:VTIMEZONE
BEGIN:VEVENT
DTSTART;TZID=Europe/Paris:20250929T183000
DTEND;TZID=Europe/Paris:20250929T200000
DTSTAMP:20260420T220117
CREATED:20250925T142120Z
LAST-MODIFIED:20250925T142120Z
UID:10000378-1759170600-1759176000@mindbodism.com
SUMMARY:Lose Fat\, Gain Energy A Real-Life Approach to Body Freedom   Learn to make food choices that fuel fat loss and energy
DESCRIPTION:Lose Fat\, Gain Energy: A Real-Life Approach to Body Freedom\n Learn to make food choices that fuel fat loss and energy\n *Date*:  Starts 29 September 2025    (90 day Program) \n *Time*:  18:30 – 20:00 CET (Live Calls Twice a Week) \n *Location*:   ONLINE \n*Price*: 2.7 euros per day.   \nJoin this 90 day program for less than 3 euros per day\, Designed to Help You reset your appetite\, stop the cycle of food guilt\, and create lasting fat loss without diets or deprivation. \n Walk away with practical tools to enjoy food with freedom\, burn fat naturally\, and finally feel in control of your choices. \nRSVP HERE \n\nExperience a lighter body\, steady energy\, and renewed confidence. \n Enjoy food without guilt or restriction\n Lose fat sustainably while living fully\n Discover simple shifts that boost daily vitality\n Reclaim control over cravings with ease\n Feel proud\, comfortable\, and free in your own skin \nBest part! Bring a friend for free! \nAbout Organiser  \n Luciana Pierangeli Your Wellness Mentor \n I am a multifaceted spirit: logical\, athletic\, and a curious healer mentor/coach.   \nMy goal? To stay present\, fully allowing my true potential. \nI love sharing tools\, concepts & frameworks to help you help yourself.\nMy mission is to help others expand their learning & knowledge so that they can increase their own vitality\, health & wellness in order to live life with purpose. \n Having been in the wellness industry for over 20 years and in coaching for over 7 years\, I regularly deliver international talks\, content\, group coaching sessions\, and 1-on-1 coaching sessions. The topics I deal with are around wellness as a whole concept\, including emotional management. I also host and organise wellness retreats\, mastermind groups\, and talks. \n I am a P.S. ME (Physical\, Spiritual\, Mental\, Emotional) framework developer\, trained as an executive wellness coach\, specialised in helping people become their healthiest self.
URL:https://mindbodism.com/event/lose-fat-gain-energy-a-real-life-approach-to-body-freedom-learn-to-make-food-choices-that-fuel-fat-loss-and-energy/
CATEGORIES:*,In-Person Event
ATTACH;FMTTYPE=image/png:https://mindbodism.com/wp-content/uploads/2025/09/Screenshot-2025-09-25-at-14.48.11.png
END:VEVENT
BEGIN:VEVENT
DTSTART;TZID=Europe/London:20250930T110000
DTEND;TZID=Europe/London:20250930T120000
DTSTAMP:20260420T220117
CREATED:20250926T110728Z
LAST-MODIFIED:20250926T110728Z
UID:10000379-1759230000-1759233600@mindbodism.com
SUMMARY:The Viral Game Plan: Live Q&A with Brendan Kane
DESCRIPTION:The Viral Game Plan: Live Q&A with Brendan Kane\n📅 Date: Tuesday\, 30th Sept 2025\n🕖 Time: 8:00 PM – 9:30 PM AEST (Sydney)\n📍 Location: Virtual Live Zoom\n💰Price: FREE \n👉RSVP HERE \n  \nDescription\nAs seen on the Mindvalley stage\, Brendan Kane – digital strategist\, celebrity clients\, author of 1 Million followers in 30 days\, is now coming to answer your questions on how to engineer virality!!!\nBrendan has created digital platforms for Taylor Swift and Rihanna\, Yes\, TayTay and RiRi!! With more than 50 million people worldwide using the digital offering he created for his celebrity clients.\nSo\, if you ever wanted to part of a special table\, because of your connection in an awesome community. This is it. Limited seats. Be on time. \nContact\nKarms Fung \nAbout Organiser\nKarms Fung is an international speaker and coach\, and founder of Excel Purpose. After a 15-year career as a CPA in Corporate accounting\, Karms walked away from the desk to pursue a mission: helping ambitious people break free from limitations\, activate effortless energy\, and create lives filled with freedom\, impact\, and purpose.\nShe is the creator of The Best Book Club Ever\, which has attracted global thought leaders including Lewis Howes\, Lisa Bilyeu\, Evan Carmichael\, and Dr. John Demartini. Her work combines mindset mastery\, storytelling\, and high-performance frameworks to empower people to step into their potential.
URL:https://mindbodism.com/event/the-viral-game-plan-live-qa-with-brendan-kane/
CATEGORIES:*,In-Person Event
ATTACH;FMTTYPE=image/jpeg:https://mindbodism.com/wp-content/uploads/2025/09/ec95311d-6706-40a5-9dd2-585b555d503e.jpg
END:VEVENT
BEGIN:VEVENT
DTSTART;TZID=Asia/Jakarta:20251001T163000
DTEND;TZID=Asia/Jakarta:20251001T203000
DTSTAMP:20260420T220117
CREATED:20250929T100404Z
LAST-MODIFIED:20250929T123212Z
UID:10000380-1759336200-1759350600@mindbodism.com
SUMMARY:Own Your Power: An Evening of Empowerment & Networking with Mindvalley EFT Coach Jennifer Partridge
DESCRIPTION:✨ Own Your Power: An Evening of Empowerment & Networking with Mindvalley EFT Coach Jennifer Partridge ✨\n📅 *Date*: Wednesday\, 1st October 2025\n🕖 *Time*: 4:30 PM – 8:30 PM\n📍 *Location*: Private Luxury Villa\, Canggu (exact location sent upon RSVP)\n💰 *Price*: 600\,000 IDR \n*Description*:\nJoin us for an exclusive evening of connection\, empowerment\, and personal transformation.\nFeaturing *Mindvalley speaker Jennifer Partridge*\, plus curated networking sessions to connect with Bali’s top coaches\, entrepreneurs\, and visionaries. Expect deep conversations\, aligned connections\, and elevated energy in a premium villa setting. \nWhether you’re new to Bali or building your next-level network — this is your space to shine 💫 \nMarina\nInstagram: @baliwithmarina \n*About the Organiser*\nBali Premier Events curates transformational gatherings and luxury networking experiences for entrepreneurs\, creators\, and conscious leaders across the island. \n—
URL:https://mindbodism.com/event/own-your-power-an-evening-of-empowerment-networking-with-mindvalley-eft-coach-jennifer-partridge/
CATEGORIES:*,In-Person Event
ATTACH;FMTTYPE=image/jpeg:https://mindbodism.com/wp-content/uploads/2025/09/7d1f9131-8f5e-4840-998c-43683736de6f-2.jpg
END:VEVENT
BEGIN:VEVENT
DTSTART;TZID=Europe/Paris:20251005T110000
DTEND;TZID=Europe/Paris:20251005T130000
DTSTAMP:20260420T220117
CREATED:20250923T110403Z
LAST-MODIFIED:20250923T111904Z
UID:10000370-1759662000-1759669200@mindbodism.com
SUMMARY:Kundalini Energy Elevation Workshop
DESCRIPTION:Kundalini Energy Elevation workshop\nHello beautiful souls ✨ \nWe’d love to invite you to a special live online Kundalini Energy Elevation workshop with us. This is a powerful 2-hour online session designed to help you: \n✅ Release money + relationship blocks\n✅ Unlock your manifestation energy\n✅ Clear deep\, stuck emotions from your body\n✅ Restore your energy levels and experience full aliveness\n✅ Regulate your nervous system through frequency (not force)\n✅ Feel lighter\, rejuvenated\, and more peaceful than before \nNormally a class like this is £55\, but we’ve created an exclusive family price of £8.88. We’re using the 888 energy to call in the abundance codes for everyone who joins\, so that this session becomes not only transformational but also an activation of prosperity for you and your path. ✨ \nThis is a beautiful opportunity to experience our work in a loving\, supportive container and to deepen the connections we’ve started to build together. \n💫 Live Kundalini Workshop\n📅 5th Oct\, 11am BST\n💻 Online – join from anywhere\n🎟 Reserve your spot here: \nWe can’t wait to connect with you again\, share our magic\, and co-create even more abundance together. 🌸 \nWith love\,\nSarve & Mariya
URL:https://mindbodism.com/event/kundalini-energy-elevation-workshop/
CATEGORIES:*,In-Person Event
ATTACH;FMTTYPE=image/jpeg:https://mindbodism.com/wp-content/uploads/2025/09/0ecd9253-2386-4711-a8bf-6b8acb0287d5.jpg
END:VEVENT
BEGIN:VEVENT
DTSTART;TZID=Europe/London:20251005T170000
DTEND;TZID=Europe/London:20251005T180000
DTSTAMP:20260420T220117
CREATED:20251004T085245Z
LAST-MODIFIED:20251006T155754Z
UID:10000390-1759683600-1759687200@mindbodism.com
SUMMARY:Monthly Community Connection & Impact Circle
DESCRIPTION:✨ Monthly Community Connection & Impact CircleStories\, Strategy & Support to Elevate Lives — Together \n🌍 You’re invited to a global gathering of changemakers. \nThis isn’t just a call — it’s a movement.A sacred space where visionary souls unite to connect\, share\, and co-create impact through love and alignment. \n\n🗓 WHEN:05 October⏰ 17:00 London | 20:00 Dubai | 09:00 Los Angeles | 23:00 Bali \n🔗 RSVP Here:https://mindbodism.com/event/monthly-community-connection-impact-circle/ \n\n✨ What’s Inside: \n🔗 Heart-Centered NetworkingConnect with purpose-driven souls from around the world — coaches\, healers\, and conscious creators who are walking the same path of growth and service. \n📖 Stories of TransformationListen to real stories of impact and breakthrough — proof that one person’s courage can ripple into thousands of lives. \n🎯 Aligned ActionStay updated on our collective milestones and receive practical weekly actions you can take to contribute to the mission. \n🤝 The Support CircleWhether you need guidance or want to give back — this space allows you to offer and receive from the heart. No judgment. Just love. \n📈 Milestone TrackingCelebrate progress together as we move closer to our shared goal of impacting 1 billion lives by 30 November 2030. \n\n🌍 Mission StatementTo transform the lives of 1 billion people by 30 November 2030 — by empowering conscious leaders\, creators\, and guides to expand their impact through aligned strategies\, community support\, and scalable systems rooted in LOVE. \n\nYou don’t need to have everything figured out.Just show up — with an open heart and willingness to grow. \nThis is more than a community.It’s your extended family. 💫You belong here. \nWith love and gratitude\,Alexis Zen \n 
URL:https://mindbodism.com/event/monthly-community-connection-impact-circle-2/
CATEGORIES:*,Online Event
ATTACH;FMTTYPE=image/png:https://mindbodism.com/wp-content/uploads/2025/05/Flyer-impact-1-billion-people-event.png
ORGANIZER;CN="Mindbodism":MAILTO:hello@mindbodism.com
END:VEVENT
BEGIN:VEVENT
DTSTART;TZID=Asia/Jakarta:20251005T180000
DTEND;TZID=Asia/Jakarta:20251005T210000
DTSTAMP:20260420T220117
CREATED:20250923T112952Z
LAST-MODIFIED:20251006T155742Z
UID:10000371-1759687200-1759698000@mindbodism.com
SUMMARY:FREE 2-DAY MASTERCLASS: The Lost Art of Being Human
DESCRIPTION:✨ FREE 2-DAY MASTERCLASS: The Lost Art of Being Human✨\n📅 *Date*: 5/6 October\n🕖 *Time*: 6 to 9pm Bali time\n📍 *Location*: online\n💰*Price*: FREE \n*Description*\nIt’s a chance to reconnecting to true\, heart-centered community and exploring breathwork\, cold bath and authentic connection practices\, from home! \n*Contact*\nName Alexandre Tsuk \nAbout Alexandre:\nBorn in France\, now rooted between Bali and India\, I’m on a mission to ignite transformation. I believe in the power of simple\, natural tools—like breath\, cold\, and community — to help us heal and come home to ourselves. \nMy own path began with struggle—facing depression led me to discover the life-changing potential of Breathwork\, Authentic Relating\, Conscious Movement and cold exposure. These tools became my medicine… and then my mission. \nToday\, I guide the BreathingCold Experience to empower others to release stuck emotions\, integrate their wounded parts\, awaken their truth\, and live fully—with clarity\, purpose\, and joy. \nWhen we change our relationship with the breath\, we shift our relationship with ourselves. And that shift ripples into how we show up in the world—with others\, and with Mother Earth. \nBeyond the breath\, I’m also the founder of BGreener\, a network of 200+ purpose-driven businesses in Indonesia\, and RefillMyBottle\, a movement to reduce plastic waste through mindful water consumption. \nIf you’re ready to explore the edge of your comfort zone—and meet the truth that lives beneath—I’m here to walk beside you. Through breathwork\, ice baths\, and heartful connection\, I invite you to come back to your body\, your voice\, and your power.
URL:https://mindbodism.com/event/free-2-day-masterclass-the-lost-art-of-being-human/
CATEGORIES:*,Online Event
ATTACH;FMTTYPE=image/jpeg:https://mindbodism.com/wp-content/uploads/2025/09/c548b01e-5201-4efe-b904-e690e77f7f94.jpg
END:VEVENT
END:VCALENDAR